Workbook

Sheet Rekapitulace stavby
A1: Export VZ | D1: List obsahuje: | K1: 1) Rekapitulace stavby | W1: 2) Rekapitulace objektů stavby a soupisů prací | BA1: 3.0 | BB1: ZAMOK | BT1: False | BU1: False | BV1: {0f879a87-d6df-450e-a06c-a84c92bd106c}
BS2: 0,01 | BT2: 21
BS3: 0,01 | BT3: 15
D4: REKAPITULACE STAVBY | AS4: v --- níže se nacházejí doplnkové a pomocné údaje k sestavám --- v | BS4: 0,001
D5: Kód: | K5: Chod | BS5: 0,01
D6: Stavba: | K6: Stavební úpravy ZŠ a MŠ, přístavba a půdní vestavba - DÍLČÍ PD - 4.VÝZVA Z IROP - INVESTICE DO VZDĚLÁVÁNÍ VYHL. DNE 27.11.2017 | BS6: 0,01
D7: KSO: | AK7: CC-CZ: | BS7: 0,01
D8: Místo: | K8: Chodovice | AK8: Datum: | AN8: 43116 | BS8: 0,01
BS9: 0,01
D10: Zadavatel: | AK10: IČ: | AN10: 00 271 551 | BS10: 0,01
E11: OÚ Holovousy | AK11: DIČ: | BS11: 0,01
BS12: 0,01
D13: Uchazeč: | AK13: IČ: | BS13: 0,01
AK14: DIČ: | BS14: 0,01
BS15: False
D16: Projektant: | AK16: IČ: | AN16: 10485333 | BS16: False
E17: Oldřich Trnka | AK17: DIČ: | BS17: True
BS18: 0,01
D19: Poznámka: | BS19: 0,01
BS20: True
D23: Cena bez DPH | AK23: =ROUND(AG51,3) -> 0
L25: Sazba daně | W25: Základ daně | AK25: Výše daně
D26: DPH | F26: základní | L26: 0.21 | W26: =ROUND(AG51,2) -> 0 | AK26: =W26*0.21 -> 0
F27: snížená | L27: 0.15 | W27: =ROUND(BA51,2) -> 0 | AK27: =ROUND(AW51,2) -> 0
F28: zákl. přenesená | L28: 0.21 | W28: =ROUND(BB51,2) -> 0 | AK28: 0
F29: sníž. přenesená | L29: 0.15 | W29: =ROUND(BC51,2) -> 0 | AK29: 0
F30: nulová | L30: 0 | W30: =ROUND(BD51,2) -> 0 | AK30: 0
D32: Cena s DPH | T32: v | X32: CZK | AK32: =SUM(AK23:AK30) -> 0
C39: REKAPITULACE OBJEKTŮ STAVBY A SOUPISŮ PRACÍ
C41: Kód: | L41: =K5 -> Chod
C42: Stavba: | L42: =K6 -> Stavební úpravy ZŠ a MŠ, přístavba a půdní vestavba - DÍLČÍ PD - 4.VÝZVA Z IROP - INVESTICE DO VZDĚLÁVÁNÍ VYHL. DNE 27.11.2017
C44: Místo: | L44: =IF(K8="","",K8) -> Chodovice | AI44: Datum: | AM44: =IF(AN8= "","",AN8) -> 43116
C46: Zadavatel: | L46: =IF(E11= "","",E11) -> OÚ Holovousy | AI46: Projektant: | AM46: =IF(E17="","",E17) -> Oldřich Trnka | AS46: Informatívní údaje z listů zakázek
C47: Uchazeč: | L47: =IF(E14="","",E14)
C49: Kód | I49: Objekt, Soupis prací | AG49: Cena bez DPH [CZK] | AN49: Cena s DPH [CZK] | AQ49: Typ | AS49: z toho Ostat._x000D_ náklady [CZK] | AT49: DPH [CZK] | AU49: Normohodiny [h] | AV49: DPH základní [CZK] | AW49: DPH snížená [CZK] | AX49: DPH základní přenesená_x000D_ [CZK] | AY49: DPH snížená přenesená_x000D_ [CZK] | AZ49: Základna_x000D_ DPH základní | BA49: Základna_x000D_ DPH snížená | BB49: Základna_x000D_ DPH zákl. přenesená | BC49: Základna_x000D_ DPH sníž. přenesená | BD49: Základna_x000D_ DPH nulová
C51: Náklady stavby celkem | AG51: =SUM(AG52:AM53) -> 0 | AN51: =SUM(AN52:AP53) -> 0 | AS51: =ROUND(SUM(AS52:AS54),2) -> 0 | AT51: =ROUND(SUM(AV51:AW51),2) -> 0 | AU51: =ROUND(SUM(AU52:AU54),5) -> #REF! | AV51: =ROUND(AZ51*L26,2) -> 0 | AW51: =ROUND(BA51*L27,2) -> 0 | AX51: =ROUND(BB51*L26,2) -> 0 | AY51: =ROUND(BC51*L27,2) -> 0 | AZ51: =ROUND(SUM(AZ52:AZ54),2) -> 0 | BA51: =ROUND(SUM(BA52:BA54),2) -> 0 | BB51: =ROUND(SUM(BB52:BB54),2) -> 0 | BC51: =ROUND(SUM(BC52:BC54),2) -> 0 | BD51: =ROUND(SUM(BD52:BD54),2) -> 0 | BS51: D | BT51: 0 | BU51: ###NOIMPORT### | BV51: IMPORT | BW51: {0f879a87-d6df-450e-a06c-a84c92bd106c} | BX51: {00000000-0000-0000-0000-000000000000}
A52: / | D52: 1-Hlavní objekt - způsobilé výdaje | J52: 1 - Stavebni úpravy ZŠ a MŠ, přístavba bezbar. WC | AG52: ='1 - Hl.objekt- Způs - 1 -...'!J27 -> 0 | AN52: =SUM(AG52,AT52) -> 0 | AQ52: STA | AS52: 0 | AT52: =ROUND(SUM(AV52:AW52),2) -> 0 | AU52: ='1 - Hl.objekt- Způs - 1 -...'!P108 -> #REF! | AV52: ='1 - Hl.objekt- Způs - 1 -...'!J30 -> 0 | AW52: ='1 - Hl.objekt- Způs - 1 -...'!J31 -> 0 | AX52: ='1 - Hl.objekt- Způs - 1 -...'!J32 -> 0 | AY52: ='1 - Hl.objekt- Způs - 1 -...'!J33 -> 0 | AZ52: ='1 - Hl.objekt- Způs - 1 -...'!F30 -> 0 | BA52: ='1 - Hl.objekt- Způs - 1 -...'!F31 -> 0 | BB52: ='1 - Hl.objekt- Způs - 1 -...'!F32 -> 0 | BC52: ='1 - Hl.objekt- Způs - 1 -...'!F33 -> 0 | BD52: ='1 - Hl.objekt- Způs - 1 -...'!F34 -> 0 | BT52: 1 | BV52: IMPORT | BW52: {bf80bcb6-288f-466a-ad0a-fed80f5c4460} | BX52: {0f879a87-d6df-450e-a06c-a84c92bd106c} | CM52: 2
D53: 2 -Hl.objekt -nezpůsobilé výdaje | J53: 1 - Stavebni úpravy ZŠ a MŠ, přístavba bezbar. WC | AH53: ='2 - Hl.objekt- Nezpůs - '!J27 -> 0 | AN53: ='2 - Hl.objekt- Nezpůs - '!J36 -> 0 | AQ53: STA

Sheet 1 - Hl.objekt- Způs - 1 -...
D1: List obsahuje: | F1: 1) Krycí list soupisu | G1: 2) Rekapitulace | J1: 3) Soupis prací | K1: Zpět na list: | L1: Rekapitulace stavby
AT2: {bf80bcb6-288f-466a-ad0a-fed80f5c4460}
AT3: 2
D4: KRYCÍ LIST SOUPISU | M4: v --- níže se nacházejí doplnkové a pomocné údaje k sestavám --- v | AT4: False
D6: Stavba:
E7: ='Rekapitulace stavby'!K6 -> Stavební úpravy ZŠ a MŠ, přístavba a půdní vestavba - DÍLČÍ PD - 4.VÝZVA Z IROP - INVESTICE DO VZDĚLÁVÁNÍ VYHL. DNE 27.11.2017
D8: Objekt:
E9: 1 - Hl.objekt- Způsobilé výdaje - 1 - Stavebni úpravy ZŠ a MŠ, přístavba bezbar. WC
D11: KSO: | I11: CC-CZ:
D12: Místo: | F12: Chodovice | I12: Datum: | J12: ='Rekapitulace stavby'!AN8 -> 43116
D14: Zadavatel: | I14: IČ: | J14: 00 271 551
E15: OÚ Holovousy | I15: DIČ:
D17: Uchazeč: | I17: IČ: | J17: =IF('Rekapitulace stavby'!AN13="Vyplň údaj","",IF('Rekapitulace stavby'!AN13="","",'Rekapitulace stavby'!AN13))
E18: =IF('Rekapitulace stavby'!E14="Vyplň údaj","",IF('Rekapitulace stavby'!E14="","",'Rekapitulace stavby'!E14)) | I18: DIČ: | J18: =IF('Rekapitulace stavby'!AN14="Vyplň údaj","",IF('Rekapitulace stavby'!AN14="","",'Rekapitulace stavby'!AN14))
D20: Projektant: | I20: IČ: | J20: 10485333
E21: Oldřich Trnka | I21: DIČ:
D23: Poznámka:
D27: Cena bez DPH | J27: =ROUND(J108,2) -> 0
F29: Základ daně | I29: Sazba daně | J29: Výše daně
D30: DPH | E30: základní | F30: =SUM(J27) -> 0 | I30: 0.21 | J30: =F30*0.21 -> 0
E31: snížená | F31: =ROUND(SUM(BF108:BF293), 2) -> 0 | I31: 0.15 | J31: =ROUND(ROUND((SUM(BF108:BF293)), 2)*I31, 2) -> 0
E32: zákl. přenesená | F32: =ROUND(SUM(BG108:BG293), 2) -> 0 | I32: 0.21 | J32: 0
E33: sníž. přenesená | F33: =ROUND(SUM(BH108:BH293), 2) -> 0 | I33: 0.15 | J33: 0
E34: nulová | F34: =ROUND(SUM(BI108:BI293), 2) -> 0 | I34: 0 | J34: 0
D36: Cena s DPH | G36: v | H36: CZK | J36: =SUM(J27:J34) -> 0
C42: REKAPITULACE ČLENĚNÍ SOUPISU PRACÍ
C44: Stavba:
E45: =E7 -> Stavební úpravy ZŠ a MŠ, přístavba a půdní vestavba - DÍLČÍ PD - 4.VÝZVA Z IROP - INVESTICE DO VZDĚLÁVÁNÍ VYHL. DNE 27.11.2017
C46: Objekt:
E47: =E9 -> 1 - Hl.objekt- Způsobilé výdaje - 1 - Stavebni úpravy ZŠ a MŠ, přístavba bezbar. WC
C49: Místo: | F49: =F12 -> Chodovice | I49: Datum: | J49: =IF(J12="","",J12) -> 43116
C51: Zadavatel: | F51: =E15 -> OÚ Holovousy | I51: Projektant: | J51: =E21 -> Oldřich Trnka
C52: Uchazeč: | F52: =IF(E18="","",E18)
C54: Kód dílu - Popis | J54: Cena celkem [CZK]
C56: Náklady soupisu celkem | J56: =J108 -> 0 | AU56: -1
D57: HSV - Práce a dodávky HSV | J57: =J109 -> 0
D58: 1 - Zemní práce | J58: =J110 -> 0
D59: 2 - Zakládání | J59: =J118 -> 0
D60: 3 - Svislé a kompletní konstrukce | J60: =J124 -> 0
D61: 4 - Vodorovné konstrukce | J61: =J137 -> 0
D62: 6 - Úpravy povrchů, podlahy a osazování výplní | J62: =J146 -> 0
D63: 9 - Ostatní konstrukce a práce, bourání | J63: =J163 -> 0
D64: 997 - Přesun sutě | J64: =J179 -> 0
D65: 998 - Přesun hmot | J65: =J184 -> 0
D66: PSV - Práce a dodávky PSV | J66: =J186 -> 0
D67: 711 - Izolace proti vodě, vlhkosti a plynům | J67: =J187 -> 0
D68: 712 - Povlakové krytiny | J68: =J196 -> 0
D69: 713 - Izolace tepelné | J69: =J200 -> 0
D70: 721 - Zdravotechnika - vnitřní kanalizace | J70: =J209 -> 0
D71: 731 - Ústřední vytápění - kotelny | J71: =J211 -> 0
D72: 741 - Elektroinstalace - silnoproud | J72: =J213 -> 0
D73: 751 - Vzduchotechnika | J73: =J216 -> 0
D74: 762 - Konstrukce tesařské | J74: =J218 -> 0
D75: 763 - Konstrukce suché výstavby | J75: =J228 -> 0
D76: 764 - Konstrukce klempířské | J76: =J231 -> 0
D77: 766 - Konstrukce truhlářské | J77: =J243 -> 0
D78: 767 - Konstrukce zámečnické | J78: =J265 -> 0
D79: 771 - Podlahy z dlaždic | J79: =J268 -> 0
D80: 776 - Podlahy povlakové | J80: =J273 -> 0
D81: 781 - Dokončovací práce - obklady | J81: =J280 -> 0
D82: 783 - Dokončovací práce - nátěry | J82: =J288 -> 0
D83: 784 - Dokončovací práce - malby a tapety | J83: =J293 -> 0
D84: 786 - Dokončovací práce - čalounické úpravy | J84: =J295 -> 0
D85: VRN - Vedlejší rozpočtové náklady | J85: =J298 -> 0
D86: VRN3 - Zařízení staveniště | J86: =J299 -> 0
D87: VRN4 - Inženýrská činnost | J87: =J301 -> 0
D88: VRN9 - Ostatní náklady | J88: =J303 -> 0
C95: SOUPIS PRACÍ
C97: Stavba:
E98: =E7 -> Stavební úpravy ZŠ a MŠ, přístavba a půdní vestavba - DÍLČÍ PD - 4.VÝZVA Z IROP - INVESTICE DO VZDĚLÁVÁNÍ VYHL. DNE 27.11.2017
C99: Objekt:
E100: =E9 -> 1 - Hl.objekt- Způsobilé výdaje - 1 - Stavebni úpravy ZŠ a MŠ, přístavba bezbar. WC
C102: Místo: | F102: =F12 -> Chodovice | I102: Datum: | J102: =IF(J12="","",J12) -> 43116
C104: Zadavatel: | F104: =E15 -> OÚ Holovousy | I104: Projektant: | J104: =E21 -> Oldřich Trnka
C105: Uchazeč: | F105: =IF(E18="","",E18)
C107: PČ | D107: Typ | E107: Kód | F107: Popis | G107: MJ | H107: Množství | I107: J.cena [CZK] | J107: Cena celkem [CZK] | K107: Cenová soustava | M107: Poznámka | N107: DPH | O107: J. Nh [h] | P107: Nh celkem [h] | Q107: J. hmotnost_x000D_ [t] | R107: Hmotnost_x000D_ celkem [t] | S107: J. suť [t] | T107: Suť Celkem [t]
C108: Náklady soupisu celkem | J108: =SUM(J109,J186,J298) -> 0 | P108: =P109+P184+P288 -> #REF! | R108: =R109+R184+R288 -> #REF! | T108: =T109+T184+T288 -> #REF! | AT108: D | AU108: -1 | BK108: =BK109+BK184+BK288 -> #REF!
D109: D | E109: HSV | F109: Práce a dodávky HSV | J109: =SUM(J110,J118,J124,J137,J146,J163,J179,J184) -> 0 | P109: =P110+P118+#REF!+P135+P144+P161+#REF!+#REF! -> #REF! | R109: =R110+R118+#REF!+R135+R144+R161+#REF!+#REF! -> #REF! | T109: =T110+T118+#REF!+T135+T144+T161+#REF!+#REF! -> #REF! | AR109: 1 | AT109: D | AU109: 0 | AY109: ROZPOCET | BK109: =BK110+BK118+#REF!+BK135+BK144+BK161+#REF!+#REF! -> #REF!
D110: D | E110: 1 | F110: Zemní práce | J110: =SUM(J111:J117) -> 0 | P110: =SUM(P111:P117) -> 28.16221 | R110: =SUM(R111:R117) -> 0.93 | T110: =SUM(T111:T117) -> 0 | AR110: 1 | AT110: D | AU110: 1 | AY110: ROZPOCET | BK110: =SUM(BK111:BK117) -> 0
C111: 1 | D111: K | E111: 132201101 | F111: Hloubení rýh š do 600 mm v hornině tř. 3 objemu do 100 m3 | G111: m3 | H111: 4.27 | I111: 0 | J111: =ROUND(I111*H111,2) -> 0 | K111: CS ÚRS 2017 01 | N111: základní | O111: 2.32 | P111: =O111*H111 -> 9.9064 | Q111: 0 | R111: =Q111*H111 -> 0 | S111: 0 | T111: =S111*H111 -> 0 | AR111: 4 | AT111: K | AU111: 2 | AY111: ROZPOCET | BE111: =IF(N111="základní",J111,0) -> 0 | BF111: =IF(N111="snížená",J111,0) -> 0 | BG111: =IF(N111="zákl. přenesená",J111,0) -> 0 | BH111: =IF(N111="sníž. přenesená",J111,0) -> 0 | BI111: =IF(N111="nulová",J111,0) -> 0 | BJ111: 1 | BK111: =ROUND(I111*H111,2) -> 0 | BL111: 4 | BM111: -2003551907
C112: 2 | D112: K | E112: 139711101 | F112: Vykopávky v uzavřených prostorách v hornině tř. 1 až 4 -nosná z. wc bzb | G112: m3 | H112: 1.8 | I112: 0 | J112: =ROUND(I112*H112,2) -> 0 | K112: CS ÚRS 2017 01 | N112: základní | O112: 7.704 | P112: =O112*H112 -> 13.8672 | Q112: 0 | R112: =Q112*H112 -> 0 | S112: 0 | T112: =S112*H112 -> 0 | AR112: 4 | AT112: K | AU112: 2 | AY112: ROZPOCET | BE112: =IF(N112="základní",J112,0) -> 0 | BF112: =IF(N112="snížená",J112,0) -> 0 | BG112: =IF(N112="zákl. přenesená",J112,0) -> 0 | BH112: =IF(N112="sníž. přenesená",J112,0) -> 0 | BI112: =IF(N112="nulová",J112,0) -> 0 | BJ112: 1 | BK112: =ROUND(I112*H112,2) -> 0 | BL112: 4 | BM112: -909701515
C113: 3 | D113: K | E113: 162601102 | F113: Vodorovné přemístění do 5000 m výkopku/sypaniny z horniny tř. 1 až 4 | G113: m3 | H113: 6.07 | I113: 0 | J113: =ROUND(I113*H113,2) -> 0 | K113: CS ÚRS 2017 01 | N113: základní | O113: 0.062 | P113: =O113*H113 -> 0.37634 | Q113: 0 | R113: =Q113*H113 -> 0 | S113: 0 | T113: =S113*H113 -> 0 | AR113: 4 | AT113: K | AU113: 2 | AY113: ROZPOCET | BE113: =IF(N113="základní",J113,0) -> 0 | BF113: =IF(N113="snížená",J113,0) -> 0 | BG113: =IF(N113="zákl. přenesená",J113,0) -> 0 | BH113: =IF(N113="sníž. přenesená",J113,0) -> 0 | BI113: =IF(N113="nulová",J113,0) -> 0 | BJ113: 1 | BK113: =ROUND(I113*H113,2) -> 0 | BL113: 4 | BM113: 618907204
C114: 4 | D114: K | E114: 167101101 | F114: Nakládání výkopku z hornin tř. 1 až 4 do 100 m3 | G114: m3 | H114: 6.07 | I114: 0 | J114: =ROUND(I114*H114,2) -> 0 | K114: CS ÚRS 2017 01 | N114: základní | O114: 0.652 | P114: =O114*H114 -> 3.95764 | Q114: 0 | R114: =Q114*H114 -> 0 | S114: 0 | T114: =S114*H114 -> 0 | AR114: 4 | AT114: K | AU114: 2 | AY114: ROZPOCET | BE114: =IF(N114="základní",J114,0) -> 0 | BF114: =IF(N114="snížená",J114,0) -> 0 | BG114: =IF(N114="zákl. přenesená",J114,0) -> 0 | BH114: =IF(N114="sníž. přenesená",J114,0) -> 0 | BI114: =IF(N114="nulová",J114,0) -> 0 | BJ114: 1 | BK114: =ROUND(I114*H114,2) -> 0 | BL114: 4 | BM114: 224348028
C115: 5 | D115: K | E115: 171201201 | F115: Uložení sypaniny na skládky | G115: m3 | H115: 6.07 | I115: 0 | J115: =ROUND(I115*H115,2) -> 0 | K115: CS ÚRS 2017 01 | N115: základní | O115: 0.009 | P115: =O115*H115 -> 0.05463 | Q115: 0 | R115: =Q115*H115 -> 0 | S115: 0 | T115: =S115*H115 -> 0 | AR115: 4 | AT115: K | AU115: 2 | AY115: ROZPOCET | BE115: =IF(N115="základní",J115,0) -> 0 | BF115: =IF(N115="snížená",J115,0) -> 0 | BG115: =IF(N115="zákl. přenesená",J115,0) -> 0 | BH115: =IF(N115="sníž. přenesená",J115,0) -> 0 | BI115: =IF(N115="nulová",J115,0) -> 0 | BJ115: 1 | BK115: =ROUND(I115*H115,2) -> 0 | BL115: 4 | BM115: 1895305788
C116: 6 | D116: K | E116: 171201211 | F116: Poplatek za uložení odpadu ze sypaniny na skládce (skládkovné) | G116: t | H116: 6.07 | I116: 0 | J116: =ROUND(I116*H116,2) -> 0 | K116: CS ÚRS 2017 01 | N116: základní | O116: 0 | P116: =O116*H116 -> 0 | Q116: 0 | R116: =Q116*H116 -> 0 | S116: 0 | T116: =S116*H116 -> 0 | AR116: 4 | AT116: K | AU116: 2 | AY116: ROZPOCET | BE116: =IF(N116="základní",J116,0) -> 0 | BF116: =IF(N116="snížená",J116,0) -> 0 | BG116: =IF(N116="zákl. přenesená",J116,0) -> 0 | BH116: =IF(N116="sníž. přenesená",J116,0) -> 0 | BI116: =IF(N116="nulová",J116,0) -> 0 | BJ116: 1 | BK116: =ROUND(I116*H116,2) -> 0 | BL116: 4 | BM116: 1008757065
C117: 8 | D117: M | E117: 583312000 | F117: štěrkopísek netříděný zásypový materiál | G117: t | H117: 0.93 | I117: 0 | J117: =ROUND(I117*H117,2) -> 0 | K117: CS ÚRS 2017 01 | N117: základní | O117: 0 | P117: =O117*H117 -> 0 | Q117: 1 | R117: =Q117*H117 -> 0.93 | S117: 0 | T117: =S117*H117 -> 0 | AR117: 8 | AT117: M | AU117: 2 | AY117: ROZPOCET | BE117: =IF(N117="základní",J117,0) -> 0 | BF117: =IF(N117="snížená",J117,0) -> 0 | BG117: =IF(N117="zákl. přenesená",J117,0) -> 0 | BH117: =IF(N117="sníž. přenesená",J117,0) -> 0 | BI117: =IF(N117="nulová",J117,0) -> 0 | BJ117: 1 | BK117: =ROUND(I117*H117,2) -> 0 | BL117: 4 | BM117: -953485666
D118: D | E118: 2 | F118: Zakládání | J118: =SUM(J119:J123) -> 0 | P118: =SUM(P120:P122) -> #REF! | R118: =SUM(R120:R122) -> #REF! | T118: =SUM(T120:T122) -> #REF! | AR118: 1 | AT118: D | AU118: 1 | AY118: ROZPOCET | BK118: =SUM(BK120:BK122) -> #REF!
C119: 9 | D119: K | E119: 213311142 | F119: Polštáře zhutněné pod základy ze štěrkopísku netříděného | G119: m3 | H119: 0.336 | I119: 0 | J119: =ROUND(I119*H119,2) -> 0 | K119: CS ÚRS 2017 01
C120: 10 | D120: K | E120: 273313611 | F120: Základové desky z betonu tř. C 16/20 | G120: m3 | H120: 0.93 | I120: 0 | J120: =ROUND(I120*H120,2) -> 0 | K120: CS ÚRS 2017 01 | N120: základní | O120: 15.231 | P120: =O120*H121 -> 0.228465 | Q120: 1.05306 | R120: =Q120*H121 -> 0.0157959 | S120: 0 | T120: =S120*H121 -> 0 | AR120: 4 | AT120: K | AU120: 2 | AY120: ROZPOCET | BE120: =IF(N120="základní",J121,0) -> 0 | BF120: =IF(N120="snížená",J121,0) -> 0 | BG120: =IF(N120="zákl. přenesená",J121,0) -> 0 | BH120: =IF(N120="sníž. přenesená",J121,0) -> 0 | BI120: =IF(N120="nulová",J121,0) -> 0 | BJ120: 1 | BK120: =ROUND(I121*H121,2) -> 0 | BL120: 4 | BM120: 950585200
C121: 11 | D121: K | E121: 273362021 | F121: Výztuž základových desek svařovanými sítěmi Kari | G121: t | H121: 0.015 | I121: 0 | J121: =ROUND(I121*H121,2) -> 0 | K121: CS ÚRS 2017 01 | N121: základní | O121: 29.878 | P121: =O121*#REF! -> #REF! | Q121: -0.15022 | R121: =Q121*#REF! -> #REF! | S121: 0 | T121: =S121*#REF! -> #REF! | AR121: 4 | AT121: K | AU121: 2 | AY121: ROZPOCET | BE121: =IF(N121="základní",#REF!,0) -> #REF! | BF121: =IF(N121="snížená",#REF!,0) -> 0 | BG121: =IF(N121="zákl. přenesená",#REF!,0) -> 0 | BH121: =IF(N121="sníž. přenesená",#REF!,0) -> 0 | BI121: =IF(N121="nulová",#REF!,0) -> 0 | BJ121: 1 | BK121: =ROUND(#REF!*#REF!,2) -> #REF! | BL121: 4 | BM121: 1596739189
C122: 12 | D122: K | E122: 274313511 | F122: Základové pásy z betonu tř. C 12/15 | G122: m3 | H122: 6.17 | I122: 0 | J122: =ROUND(I122*H122,2) -> 0 | K122: CS ÚRS 2017 01 | N122: základní | O122: 44.525 | P122: =O122*H123 -> 0.44525 | Q122: -1.3535 | R122: =Q122*H123 -> -0.013535 | S122: 0 | T122: =S122*H123 -> 0 | AR122: 4 | AT122: K | AU122: 2 | AY122: ROZPOCET | BE122: =IF(N122="základní",J123,0) -> 0 | BF122: =IF(N122="snížená",J123,0) -> 0 | BG122: =IF(N122="zákl. přenesená",J123,0) -> 0 | BH122: =IF(N122="sníž. přenesená",J123,0) -> 0 | BI122: =IF(N122="nulová",J123,0) -> 0 | BJ122: 1 | BK122: =ROUND(I123*H123,2) -> 0 | BL122: 4 | BM122: 2242893178
C123: 1 | D123: K | E123: 273458841 | F123: Výztuž základových desek svařovanými sítěmi Kari | G123: t | H123: 0.01 | I123: 0 | J123: =ROUND(I123*H123,2) -> 0 | K123: CS ÚRS 2017 01 | N123: základní | O123: 3.842 | P123: =O123*H125 -> 3.22728 | Q123: 1.8775 | R123: =Q123*H125 -> 1.5771 | S123: 0 | T123: =S123*H125 -> 0 | AR123: 4 | AT123: K | AU123: 2 | AY123: ROZPOCET | BE123: =IF(N123="základní",J125,0) -> 0 | BF123: =IF(N123="snížená",J125,0) -> 0 | BG123: =IF(N123="zákl. přenesená",J125,0) -> 0 | BH123: =IF(N123="sníž. přenesená",J125,0) -> 0 | BI123: =IF(N123="nulová",J125,0) -> 0 | BJ123: 1 | BK123: =ROUND(I125*H125,2) -> 0 | BL123: 4 | BM123: -298908168
D124: D | E124: 3 | F124: Svislé a kompletní konstrukce | J124: =SUM(J125:J136) -> 0 | N124: základní | O124: 0.69 | P124: =O124*H126 -> 8.9148 | Q124: 0.2209 | R124: =Q124*H126 -> 2.854028 | S124: 0 | T124: =S124*H126 -> 0 | AR124: 4 | AT124: K | AU124: 2 | AY124: ROZPOCET | BE124: =IF(N124="základní",J126,0) -> 0 | BF124: =IF(N124="snížená",J126,0) -> 0 | BG124: =IF(N124="zákl. přenesená",J126,0) -> 0 | BH124: =IF(N124="sníž. přenesená",J126,0) -> 0 | BI124: =IF(N124="nulová",J126,0) -> 0 | BJ124: 1 | BK124: =ROUND(I126*H126,2) -> 0 | BL124: 4 | BM124: 1680346802
C125: 18 | D125: K | E125: 310239211 | F125: Zazdívka otvorů pl do 4 m2 ve zdivu nadzákladovém cihlami pálenými na MVC | G125: m3 | H125: 0.84 | I125: 0 | J125: =ROUND(I125*H125,2) -> 0 | K125: CS ÚRS 2017 01 | N125: základní | O125: 0.778 | P125: =O125*H127 -> 11.52996 | Q125: 0.31927 | R125: =Q125*H127 -> 4.7315814 | S125: 0 | T125: =S125*H127 -> 0 | AR125: 4 | AT125: K | AU125: 2 | AY125: ROZPOCET | BE125: =IF(N125="základní",J127,0) -> 0 | BF125: =IF(N125="snížená",J127,0) -> 0 | BG125: =IF(N125="zákl. přenesená",J127,0) -> 0 | BH125: =IF(N125="sníž. přenesená",J127,0) -> 0 | BI125: =IF(N125="nulová",J127,0) -> 0 | BJ125: 1 | BK125: =ROUND(I127*H127,2) -> 0 | BL125: 4 | BM125: -116032030
C126: 19 | D126: K | E126: 311238143 | F126: Zdivo nosné vnitřní z cihel broušených POROTHERM tl 240 mm pevnosti P10 lepených tenkovrstvou maltou | G126: m2 | H126: 12.92 | I126: 0 | J126: =ROUND(I126*H126,2) -> 0 | K126: CS ÚRS 2017 01 | N126: základní | O126: 2.574 | P126: =O126*H128 -> 3.24324 | Q126: 0.56425 | R126: =Q126*H128 -> 0.710955 | S126: 0 | T126: =S126*H128 -> 0 | AR126: 4 | AT126: K | AU126: 2 | AY126: ROZPOCET | BE126: =IF(N126="základní",J128,0) -> 0 | BF126: =IF(N126="snížená",J128,0) -> 0 | BG126: =IF(N126="zákl. přenesená",J128,0) -> 0 | BH126: =IF(N126="sníž. přenesená",J128,0) -> 0 | BI126: =IF(N126="nulová",J128,0) -> 0 | BJ126: 1 | BK126: =ROUND(I128*H128,2) -> 0 | BL126: 4 | BM126: -1156236654
C127: 20 | D127: K | E127: 311238247 | F127: Zdivo nosné vnější z cihel broušených POROTHERM tl 400 mm pevnosti P 10 lepených PUR pěnou (12,1 m2 + 58,8% z 4,64m2 dle počtu dětí v MŠ a žáků ZŠ = 28dˇ/40ž) | G127: m2 | H127: 14.82 | I127: 0 | J127: =ROUND(I127*H127,2) -> 0 | K127: CS ÚRS 2017 01 | N127: základní | O127: 0 | P127: =O127*H129 -> 0 | Q127: 0.073 | R127: =Q127*H129 -> 0.146 | S127: 0 | T127: =S127*H129 -> 0 | AR127: 8 | AT127: M | AU127: 2 | AY127: ROZPOCET | BE127: =IF(N127="základní",J129,0) -> 0 | BF127: =IF(N127="snížená",J129,0) -> 0 | BG127: =IF(N127="zákl. přenesená",J129,0) -> 0 | BH127: =IF(N127="sníž. přenesená",J129,0) -> 0 | BI127: =IF(N127="nulová",J129,0) -> 0 | BJ127: 1 | BK127: =ROUND(I129*H129,2) -> 0 | BL127: 4 | BM127: 426923118
C128: 21 | D128: K | E128: 311272312 | F128: Zdivo nosné tl 300 mm z pórobetonových přesných hladkých tvárnic Ytong hmotnosti 400 kg/m3 | G128: m3 | H128: 1.26 | I128: 0 | J128: =ROUND(I128*H128,2) -> 0 | K128: CS ÚRS 2017 01 | N128: základní | O128: 0.301 | P128: =O128*H130 -> 0.602 | Q128: 0.00918 | R128: =Q128*H130 -> 0.01836 | S128: 0 | T128: =S128*H130 -> 0 | AR128: 4 | AT128: K | AU128: 2 | AY128: ROZPOCET | BE128: =IF(N128="základní",J130,0) -> 0 | BF128: =IF(N128="snížená",J130,0) -> 0 | BG128: =IF(N128="zákl. přenesená",J130,0) -> 0 | BH128: =IF(N128="sníž. přenesená",J130,0) -> 0 | BI128: =IF(N128="nulová",J130,0) -> 0 | BJ128: 1 | BK128: =ROUND(I130*H130,2) -> 0 | BL128: 4 | BM128: -1645655169
C129: 23 | D129: M | E129: 593211010 | F129: překlad železobetonový RZP 2/10 149x14x14 cm | G129: kus | H129: 2 | I129: 0 | J129: =ROUND(I129*H129,2) -> 0 | K129: CS ÚRS 2017 01 | N129: základní | O129: 6.77 | P129: =O129*H131 -> 0.0677 | Q129: 1.94302 | R129: =Q129*H131 -> 0.0194302 | S129: 0 | T129: =S129*H131 -> 0 | AR129: 4 | AT129: K | AU129: 2 | AY129: ROZPOCET | BE129: =IF(N129="základní",J131,0) -> 0 | BF129: =IF(N129="snížená",J131,0) -> 0 | BG129: =IF(N129="zákl. přenesená",J131,0) -> 0 | BH129: =IF(N129="sníž. přenesená",J131,0) -> 0 | BI129: =IF(N129="nulová",J131,0) -> 0 | BJ129: 1 | BK129: =ROUND(I131*H131,2) -> 0 | BL129: 4 | BM129: -72385009
A130: 0 | C130: 24 | D130: K | E130: 317121102 | F130: Montáž prefabrikovaných překladů pro světlost otvoru do 1800 mm- U | G130: kus | H130: 2 | I130: 0 | J130: =ROUND(I130*H130,2) -> 0 | K130: CS ÚRS 2017 01 | N130: základní | O130: 40.5 | P130: =O130*H132 -> 2.43 | Q130: 1.09 | R130: =Q130*H132 -> 0.0654 | S130: 0 | T130: =S130*H132 -> 0 | AR130: 4 | AT130: K | AU130: 2 | AY130: ROZPOCET | BE130: =IF(N130="základní",J132,0) -> 0 | BF130: =IF(N130="snížená",J132,0) -> 0 | BG130: =IF(N130="zákl. přenesená",J132,0) -> 0 | BH130: =IF(N130="sníž. přenesená",J132,0) -> 0 | BI130: =IF(N130="nulová",J132,0) -> 0 | BJ130: 1 | BK130: =ROUND(I132*H132,2) -> 0 | BL130: 4 | BM130: -514762881
C131: 28 | D131: K | E131: 317234410 | F131: Vyzdívka mezi nosníky z cihel pálených na MC | G131: m3 | H131: 0.01 | I131: 0 | J131: =ROUND(I131*H131,2) -> 0 | K131: CS ÚRS 2017 01 | N131: základní | O131: 36.9 | P131: =O131*H133 -> 2.9889 | Q131: 1.09 | R131: =Q131*H133 -> 0.08829 | S131: 0 | T131: =S131*H133 -> 0 | AR131: 4 | AT131: K | AU131: 2 | AY131: ROZPOCET | BE131: =IF(N131="základní",J133,0) -> 0 | BF131: =IF(N131="snížená",J133,0) -> 0 | BG131: =IF(N131="zákl. přenesená",J133,0) -> 0 | BH131: =IF(N131="sníž. přenesená",J133,0) -> 0 | BI131: =IF(N131="nulová",J133,0) -> 0 | BJ131: 1 | BK131: =ROUND(I133*H133,2) -> 0 | BL131: 4 | BM131: 92012033
...

Sheet 2 - Hl.objekt- Nezpůs - 
D1: List obsahuje: | F1: 1) Krycí list soupisu | G1: 2) Rekapitulace | J1: 3) Soupis prací | K1: Zpět na list:
D4: KRYCÍ LIST SOUPISU
D6: Stavba:
E7: ='Rekapitulace stavby'!K6 -> Stavební úpravy ZŠ a MŠ, přístavba a půdní vestavba - DÍLČÍ PD - 4.VÝZVA Z IROP - INVESTICE DO VZDĚLÁVÁNÍ VYHL. DNE 27.11.2017
D8: Objekt:
E9: 2 - Hl.objekt- nezpůsobilé výdaje - 1 - Stavebni úpravy ZŠ a MŠ, přístavba bezbar. WC
D11: KSO: | I11: CC-CZ:
D12: Místo: | F12: Chodovice | I12: Datum: | J12: ='Rekapitulace stavby'!AN8 -> 43116
D14: Zadavatel: | I14: IČ: | J14: 00 271 551
E15: OÚ Holovousy | I15: DIČ:
D17: Uchazeč: | I17: IČ: | J17: =IF('Rekapitulace stavby'!AN13="Vyplň údaj","",IF('Rekapitulace stavby'!AN13="","",'Rekapitulace stavby'!AN13))
E18: =IF('Rekapitulace stavby'!E14="Vyplň údaj","",IF('Rekapitulace stavby'!E14="","",'Rekapitulace stavby'!E14)) | I18: DIČ: | J18: =IF('Rekapitulace stavby'!AN14="Vyplň údaj","",IF('Rekapitulace stavby'!AN14="","",'Rekapitulace stavby'!AN14))
D20: Projektant: | I20: IČ: | J20: 10485333
E21: Oldřich Trnka | I21: DIČ:
D23: Poznámka:
D27: Cena bez DPH | J27: =ROUND(J84,2) -> 0
F29: Základ daně | I29: Sazba daně | J29: Výše daně
D30: DPH | E30: základní | F30: =SUM(J27) -> 0 | I30: 0.21 | J30: =F30*0.21 -> 0
E31: snížená | F31: =ROUND(SUM(AY94:AY106), 2) -> 0 | I31: 0.15 | J31: =ROUND(ROUND((SUM(AY94:AY106)), 2)*I31, 2) -> 0
E32: zákl. přenesená | F32: =ROUND(SUM(AZ94:AZ106), 2) -> 0 | I32: 0.21 | J32: 0
E33: sníž. přenesená | F33: =ROUND(SUM(BA94:BA106), 2) -> 0 | I33: 0.15 | J33: 0
E34: nulová | F34: =ROUND(SUM(BB94:BB106), 2) -> 0 | I34: 0 | J34: 0
D36: Cena s DPH | G36: v | H36: CZK | J36: =SUM(J27:J34) -> 0
C42: REKAPITULACE ČLENĚNÍ SOUPISU PRACÍ
C44: Stavba:
E45: =E7 -> Stavební úpravy ZŠ a MŠ, přístavba a půdní vestavba - DÍLČÍ PD - 4.VÝZVA Z IROP - INVESTICE DO VZDĚLÁVÁNÍ VYHL. DNE 27.11.2017
C46: Objekt:
E47: =E9 -> 2 - Hl.objekt- nezpůsobilé výdaje - 1 - Stavebni úpravy ZŠ a MŠ, přístavba bezbar. WC
C49: Místo: | F49: =F12 -> Chodovice | I49: Datum: | J49: =IF(J12="","",J12) -> 43116
C51: Zadavatel: | F51: =E15 -> OÚ Holovousy | I51: Projektant: | J51: =E21 -> Oldřich Trnka
C52: Uchazeč: | F52: =IF(E18="","",E18)
C54: Kód dílu - Popis | J54: Cena celkem [CZK]
C56: Náklady soupisu celkem | J56: =J84 -> 0
D57: HSV - Práce a dodávky HSV | J57: =J85 -> 0
D58: 3 - Svislé a kompletní konstrukce | J58: =J86 -> 0
D59: 998 - Přesun hmot | J59: =J88 -> 0
D60: PSV - Práce a dodávky PSV | J60: =J90 -> 0
D61: 766 - Konstrukce truhlářské | J61: =J91 -> 0
D62: VRN - Vedlejší rozpočtové náklady | J62: =J97 -> 0
D63: VRN3 - Zařízení staveniště | J63: =J98 -> 0
D64: VRN4 - Inženýrská činnost | J64: =J100 -> 0
C71: SOUPIS PRACÍ
C73: Stavba:
E74: =E7 -> Stavební úpravy ZŠ a MŠ, přístavba a půdní vestavba - DÍLČÍ PD - 4.VÝZVA Z IROP - INVESTICE DO VZDĚLÁVÁNÍ VYHL. DNE 27.11.2017
C75: Objekt:
E76: =E9 -> 2 - Hl.objekt- nezpůsobilé výdaje - 1 - Stavebni úpravy ZŠ a MŠ, přístavba bezbar. WC
C78: Místo: | F78: =F12 -> Chodovice | I78: Datum: | J78: =IF(J12="","",J12) -> 43116
C80: Zadavatel: | F80: =E15 -> OÚ Holovousy | I80: Projektant: | J80: =E21 -> Oldřich Trnka
C81: Uchazeč: | F81: =IF(E18="","",E18)
C83: PČ | D83: Typ | E83: Kód | F83: Popis | G83: MJ | H83: Množství | I83: J.cena [CZK] | J83: Cena celkem [CZK] | K83: Cenová soustava
C84: Náklady soupisu celkem | J84: =SUM(J85,J90,J97) -> 0
D85: D | E85: HSV | F85: Práce a dodávky HSV | J85: =SUM(J86,J88) -> 0
D86: D | E86: 3 | F86: Svislé a kompletní konstrukce | J86: =SUM(J87) -> 0
C87: 20 | D87: K | E87: 311238247 | F87: Zdivo nosné vnější z cihel broušených POROTHERM tl 400 mm pevnosti P 10 lepených PUR pěnou (41,2% z 4,64m2 dle počtu dětí v MŠ a žáků ZŠ = 28dˇ/40ž) | G87: m2 | H87: 1.92 | I87: 0 | J87: =ROUND(I87*H87,2) -> 0 | K87: CS ÚRS 2017 01
D88: D | E88: 998 | F88: Přesun hmot | J88: =SUM(J89) -> 0
C89: 121 | D89: K | E89: 998017002 | F89: Přesun hmot s omezením mechanizace pro budovy v do 12 m | G89: t | H89: 0.5 | I89: 0 | J89: =ROUND(I89*H89,2) -> 0 | K89: CS ÚRS 2017 01
D90: D | E90: PSV | F90: Práce a dodávky PSV | J90: =SUM(J91) -> 0
D91: D | E91: 766 | F91: Konstrukce truhlářské | J91: =SUM(J92:J96) -> 0
C92: 222 | D92: M | E92: 999100001 | F92: Dodávka bezpečnostních vstup.stěn s dveřmi- dle tabulky- 1-3/DVB = 11,178 m2 ( 41,2% z 11,178m2 dle počtu dětí v MŠ a žáků ZŠ = 28dˇ/40ž) | G92: m2 | H92: 4.61 | I92: 0 | J92: =ROUND(I92*H92,2) -> 0
C93: 223 | D93: K | E93: 76612351-01 | F93: Montáž stěn a dveří celozasklených bezp.sklem v do 2,75 m ( 41,2% z 11,178m2 dle počtu dětí v MŠ a žáků ZŠ = 28dˇ/40ž) | G93: m2 | H93: 4.61 | I93: 0 | J93: =ROUND(I93*H93,2) -> 0
C94: 234 | D94: K | E94: 766660022 | F94: Montáž dveřních křídel vstupních otvíravých 1křídlových 90/197 s bočním světlíkem a nadsvětlíkem 1630/2770 do tesařské zárubně, bezbariérová + bezpečnostní úprava (41,2% dle počtu dětí v MŠ a žáků ZŠ = 28dˇ/40ž) | G94: kus | H94: 0.412 | I94: 0 | J94: =ROUND(I94*H94,2) -> 0 | K94: CS ÚRS 2017 01
C95: 235 | D95: M | E95: 611653400 | F95: dveře vstupní 1křídlé 90/197 s bočním světlíkem a nadsvětlíkem 1630/2770 do tesařské zárubně, bezbariérová + bezpečnostní úprava (41,2% dle počtu dětí v MŠ a žáků ZŠ = 28dˇ/40ž) | G95: kus | H95: 0.412 | I95: 0 | J95: =ROUND(I95*H95,2) -> 0 | K95: CS ÚRS 2017 01
C96: 243 | D96: K | E96: 998766102 | F96: Přesun hmot tonážní pro konstrukce truhlářské v objektech v do 12 m | G96: t | H96: 0.15 | I96: 0 | J96: =ROUND(I96*H96,2) -> 0 | K96: CS ÚRS 2017 01
D97: D | E97: VRN | F97: Vedlejší rozpočtové náklady | J97: =SUM(J98,J100) -> 0
D98: D | E98: VRN3 | F98: Zařízení staveniště | J98: =SUM(J99) -> 0
C99: 278 | D99: K | E99: 030001000 | F99: Zařízení staveniště | G99: s | H99: 1 | I99: 0 | J99: =SUM(H99*I99) -> 0 | K99: CS ÚRS 2017 01
D100: D | E100: VRN4 | F100: Inženýrská činnost | J100: =SUM(J101) -> 0
C101: 279 | D101: K | E101: 045203000 | F101: Kompletační činnost | G101: s | H101: 1 | I101: 0 | J101: =SUM(H101*I101) -> 0 | K101: CS ÚRS 2017 01

Sheet Pokyny pro vyplnění
C3: Struktura údajů, formát souboru a metodika pro zpracování
C4: Struktura
C6: Soubor je složen ze záložky Rekapitulace stavby a záložek s názvem soupisu prací pro jednotlivé objekty ve formátu XLSX. Každá ze záložek přitom obsahuje
C7: ještě samostatné sestavy vymezené orámovaním a nadpisem sestavy.
C9: Rekapitulace stavby obsahuje sestavu Rekapitulace stavby a Rekapitulace objektů stavby a soupisů prací.
D10: V sestavě Rekapitulace stavby jsou uvedeny informace identifikující předmět veřejné zakázky na stavební práce, KSO, CC-CZ, CZ-CPV, CZ-CPA a rekapitulaci
D11: celkové nabídkové ceny uchazeče.
D13: V sestavě Rekapitulace objektů stavby a soupisů prací je uvedena rekapitulace stavebních objektů, inženýrských objektů, provozních souborů,
D14: vedlejších a ostatních nákladů a ostatních nákladů s rekapitulací nabídkové ceny za jednotlivé soupisy prací. Na základě údaje Typ je možné
D15: identifikovat, zda se jedná o objekt nebo soupis prací pro daný objekt:
E16: STA | F16: Stavební objekt pozemní
E17: ING | F17: Stavební objekt inženýrský
E18: PRO | F18: Provozní soubor
E19: VON | F19: Vedlejší a ostatní náklady
E20: OST | F20: Ostatní
E21: Soupis | F21: Soupis prací pro daný typ objektu
C23: Soupis prací pro jednotlivé objekty obsahuje sestavy Krycí list soupisu, Rekapitulace členění soupisu prací, Soupis prací. Za soupis prací může být považován
C24: i objekt stavby v případě, že neobsahuje podřízenou zakázku.
D25: Krycí list soupisu obsahuje rekapitulaci informací o předmětu veřejné zakázky ze sestavy Rekapitulace stavby, informaci o zařazení objektu do KSO,
D26: CC-CZ, CZ-CPV, CZ-CPA a rekapitulaci celkové nabídkové ceny uchazeče za aktuální soupis prací.
D28: Rekapitulace členění soupisu prací obsahuje rekapitulaci soupisu prací ve všech úrovních členění soupisu tak, jak byla tato členění použita (např.
D29: stavební díly, funkční díly, případně jiné členění) s rekapitulací nabídkové ceny.
D31: Soupis prací obsahuje položky veškerých stavebních nebo montážních prací, dodávek materiálů a služeb nezbytných pro zhotovení stavebního objektu,
D32: inženýrského objektu, provozního souboru, vedlejších a ostatních nákladů.
D33: Pro položky soupisu prací se zobrazují následující informace:
E34: PČ | G34: Pořadové číslo položky v aktuálním soupisu
E35: TYP | G35: Typ položky: K - konstrukce, M - materiál, PP - plný popis, PSC - poznámka k souboru cen, P - poznámka k položce, VV - výkaz výměr
E36: Kód | G36: Kód položky
E37: Popis | G37: Zkrácený popis položky
E38: MJ | G38: Měrná jednotka položky
E39: Množství | G39: Množství v měrné jednotce
E40: J.cena | G40: Jednotková cena položky. Zadaní může obsahovat namísto J.ceny sloupce J.materiál a J.montáž, jejichž součet definuje
G41: J.cenu položky.
E42: Cena celkem | G42: Celková cena položky daná jako součin množství a j.ceny
E43: Cenová soustava | G43: Příslušnost položky do cenové soustavy
D45: Ke každé položce soupisu prací se na samostatných řádcích může zobrazovat:
E46: Plný popis položky
E47: Poznámka k souboru cen a poznámka zadavatele
E48: Výkaz výměr
D49: Pokud je k řádku výkazu výměr evidovaný údaj ve sloupci Kód, jedná se o definovaný odkaz, na který se může odvolávat výkaz výměr z jiné položky.
C50: Metodika pro zpracování
C52: Jednotlivé sestavy jsou v souboru provázány. Editovatelné pole jsou zvýrazněny žlutým podbarvením, ostatní pole neslouží k editaci a nesmí být jakkoliv
C53: modifikovány.
C55: Uchazeč je pro podání nabídky povinen vyplnit žlutě podbarvená pole:
D56: Pole Uchazeč v sestavě Rekapitulace stavby - zde uchazeč vyplní svůj název (název subjektu)
D57: Pole IČ a DIČ v sestavě Rekapitulace stavby - zde uchazeč vyplní svoje IČ a DIČ
D58: Datum v sestavě Rekapitulace stavby - zde uchazeč vyplní datum vytvoření nabídky
D59: J.cena = jednotková cena v sestavě Soupis prací o maximálním počtu desetinných míst uvedených v poli
D60: - pokud sestavy soupisů prací obsahují pole J.cena, musí být všechna tato pole vyplněna nenulovými kladnými číslicemi
D61: Poznámka - nepovinný údaj pro položku soupisu
D63: V případě, že sestavy soupisů prací neobsahují pole J.cena, potom ve všech soupisech prací obsahují pole:
D64: - J.materiál - jednotková cena materiálu
D65: - J.montáž - jednotková cena montáže
D66: Uchazeč je v tomto případě povinen vyplnit všechna pole J.materiál a pole J.montáž nenulovými kladnými číslicemi. V případech, kdy položka
D67: neobsahuje žádný materiál je přípustné, aby pole J.materiál bylo vyplněno nulou. V případech, kdy položka neobsahuje žádnou montáž je přípustné,
D68: aby pole J.montáž bylo vyplněno nulou. Není však přípustné, aby obě pole - J.materiál, J.Montáž byly u jedné položky vyplněny nulou.
C73: Rekapitulace stavby
C74: Název | F74: Povinný | H74: Popis | I74: Typ | J74: Max. počet
C75: atributu | F75: (A/N) | J75: znaků
C77: Kód | F77: A | H77: Kód stavby | I77: String | J77: 20
C78: Stavba | F78: A | H78: Název stavby | I78: String | J78: 120
C79: Místo | F79: N | H79: Místo stavby | I79: String | J79: 50
C80: Datum | F80: A | H80: Datum vykonaného exportu | I80: Date
C81: KSO | F81: N | H81: Klasifikace stavebního objektu | I81: String | J81: 15
C82: CC-CZ | F82: N | H82: Klasifikace stavbeních děl | I82: String | J82: 15
C83: CZ-CPV | F83: N | H83: Společný slovník pro veřejné zakázky | I83: String | J83: 20
C84: CZ-CPA | F84: N | H84: Klasifikace produkce podle činností | I84: String | J84: 20
C85: Zadavatel | F85: N | H85: Zadavatel zadaní | I85: String | J85: 50
C86: IČ | F86: N | H86: IČ zadavatele zadaní | I86: String | J86: 20
C87: DIČ | F87: N | H87: DIČ zadavatele zadaní | I87: String | J87: 20
C88: Uchazeč | F88: N | H88: Uchazeč veřejné zakázky | I88: String | J88: 50
C89: Projektant | F89: N | H89: Projektant | I89: String | J89: 50
C90: Poznámka | F90: N | H90: Poznámka k zadání | I90: String | J90: 255
C91: Sazba DPH | F91: A | H91: Rekapitulace sazeb DPH u položek soupisů | I91: eGSazbaDph
C92: Základna DPH | F92: A | H92: Základna DPH určena součtem celkové ceny z položek soupisů | I92: Double
C93: Hodnota DPH | F93: A | H93: Hodnota DPH | I93: Double
C94: Cena bez DPH | F94: A | H94: Celková cena bez DPH za celou stavbu. Sčítává se ze všech listů. | I94: Double
C95: Cena s DPH | F95: A | H95: Celková cena s DPH za celou stavbu | I95: Double
C100: Rekapitulace objektů stavby a soupisů prací
C101: Název | F101: Povinný | H101: Popis | I101: Typ | J101: Max. počet
C102: atributu | F102: (A/N) | J102: znaků
C104: Kód | F104: A | H104: Přebírá se z Rekapitulace stavby | I104: String | J104: 20
C105: Stavba | F105: A | H105: Přebírá se z Rekapitulace stavby | I105: String | J105: 120
C106: Místo | F106: N | H106: Přebírá se z Rekapitulace stavby | I106: String | J106: 50
C107: Datum | F107: A | H107: Přebírá se z Rekapitulace stavby | I107: Date
C108: Zadavatel | F108: N | H108: Přebírá se z Rekapitulace stavby | I108: String | J108: 50
C109: Projektant | F109: N | H109: Přebírá se z Rekapitulace stavby | I109: String | J109: 50
C110: Uchazeč | F110: N | H110: Přebírá se z Rekapitulace stavby | I110: String | J110: 50
C111: Kód | F111: A | H111: Kód objektu | I111: String | J111: 20
C112: Objektu, Soupis prací | F112: A | H112: Název objektu | I112: String | J112: 120
C113: Cena bez DPH | F113: A | H113: Cena bez DPH za daný objekt | I113: Double
C114: Cena s DPH | F114: A | H114: Cena spolu s DPH za daný objekt | I114: Double
C115: Typ | F115: A | H115: Typ zakázky | I115: eGTypZakazky
C120: Krycí list soupisu
C121: Název | F121: Povinný | H121: Popis | I121: Typ | J121: Max. počet
C122: atributu | F122: (A/N) | J122: znaků
C124: Stavba | F124: A | H124: Přebírá se z Rekapitulace stavby | I124: String | J124: 120
C125: Objekt | F125: A | H125: Kód a název objektu | I125: String | J125: 20 + 120
C126: Soupis | F126: A | H126: Kód a název soupisu | I126: String | J126: 20 + 120
C127: KSO | F127: N | H127: Klasifikace stavebního objektu | I127: String | J127: 15
...
