Workbook

Sheet Rekapitulace stavby
A1: Export VZ | D1: List obsahuje: | K1: 1) Rekapitulace stavby | W1: 2) Rekapitulace objektů stavby a soupisů prací | BA1: 3.0 | BT1: False | BU1: False | BV1: {3de598dc-f39a-4f37-95f7-0f262ebf580b}
AR2: >> skryté sloupce << | BS2: 0,01 | BT2: 21
BS3: 0,01 | BT3: 15
D4: REKAPITULACE STAVBY | AS4: v --- níže se nacházejí doplnkové a pomocné údaje k sestavám --- v | BE4: Návod na vyplnění | BS4: 0,001
D5: Kód: | K5: Z1810 | BE5: Měnit lze pouze buňky se žlutým podbarvením!_x000D_ _x000D_ 1) v Rekapitulaci stavby vyplňte údaje o Uchazeči (přenesou se do ostatních sestav i v jiných listech)_x000D_ _x000D_ 2) na vybraných listech vyplňte v sestavě Soupis prací ceny u položek_x000D_ _x000D_ Podrobnosti k vyplnění naleznete na poslední záložce s Pokyny pro vyplnění | BS5: 0,01
D6: Stavba: | K6: Mateřská škola Chodovice - Rekuperace | BS6: 0,01
D7: KSO: | AK7: CC-CZ: | BS7: 0,01
D8: Místo: | K8: Chodovice | AK8: Datum: | AN8: 23. 2. 2018 | BS8: 0,01
BS9: 0,01
D10: Zadavatel: | K10: OÚ Holovousy | AK10: IČ: | BS10: 0,01
AK11: DIČ: | BS11: 0,01
BS12: 0,01
D13: Uchazeč: | AK13: IČ: | AN13: Vyplň údaj | BS13: 0,01
E14: Vyplň údaj | AK14: DIČ: | AN14: Vyplň údaj | BS14: 0,01
BS15: False
D16: Projektant: | AK16: IČ: | BS16: False
AK17: DIČ: | BS17: True
BS18: 0,01
D19: Poznámka: | BS19: 0,01
BS20: False
D23: Cena bez DPH | AK23: =ROUND(AG51,2) -> 0
L25: Sazba daně | W25: Základ daně | AK25: Výše daně
D26: DPH | F26: základní | L26: 0.21 | W26: =ROUND(AZ51,2) -> 0 | AK26: =ROUND(AV51,2) -> 0
F27: snížená | L27: 0.15 | W27: =ROUND(BA51,2) -> 0 | AK27: =ROUND(AW51,2) -> 0
F28: zákl. přenesená | L28: 0.21 | W28: =ROUND(BB51,2) -> 0 | AK28: 0
F29: sníž. přenesená | L29: 0.15 | W29: =ROUND(BC51,2) -> 0 | AK29: 0
F30: nulová | L30: 0 | W30: =ROUND(BD51,2) -> 0 | AK30: 0
D32: Cena s DPH | T32: v | X32: CZK | AK32: =SUM(AK23:AK30) -> 0
C39: REKAPITULACE OBJEKTŮ STAVBY A SOUPISŮ PRACÍ
C41: Kód: | L41: =K5 -> Z1810
C42: Stavba: | L42: =K6 -> Mateřská škola Chodovice - Rekuperace
C44: Místo: | L44: =IF(K8="","",K8) -> Chodovice | AI44: Datum: | AM44: =IF(AN8= "","",AN8) -> 23. 2. 2018
C46: Zadavatel: | L46: OÚ Holovousy | AI46: Projektant: | AM46: =IF(E17="","",E17) | AS46: Informatívní údaje z listů zakázek
C47: Uchazeč: | L47: =IF(E14= "Vyplň údaj","",E14)
C49: Kód | I49: Objekt, Soupis prací | AG49: Cena bez DPH [CZK] | AN49: Cena s DPH [CZK] | AQ49: Typ | AS49: z toho Ostat._x000D_ náklady [CZK] | AT49: DPH [CZK] | AU49: Normohodiny [h] | AV49: DPH základní [CZK] | AW49: DPH snížená [CZK] | AX49: DPH základní přenesená_x000D_ [CZK] | AY49: DPH snížená přenesená_x000D_ [CZK] | AZ49: Základna_x000D_ DPH základní | BA49: Základna_x000D_ DPH snížená | BB49: Základna_x000D_ DPH zákl. přenesená | BC49: Základna_x000D_ DPH sníž. přenesená | BD49: Základna_x000D_ DPH nulová
C51: Náklady stavby celkem | AG51: =ROUND(AG52,2) -> 0 | AN51: =SUM(AG51,AT51) -> 0 | AS51: =ROUND(AS52,2) -> 0 | AT51: =ROUND(SUM(AV51:AW51),2) -> 0 | AU51: =ROUND(AU52,5) -> 0 | AV51: =ROUND(AZ51*L26,2) -> 0 | AW51: =ROUND(BA51*L27,2) -> 0 | AX51: =ROUND(BB51*L26,2) -> 0 | AY51: =ROUND(BC51*L27,2) -> 0 | AZ51: =ROUND(AZ52,2) -> 0 | BA51: =ROUND(BA52,2) -> 0 | BB51: =ROUND(BB52,2) -> 0 | BC51: =ROUND(BC52,2) -> 0 | BD51: =ROUND(BD52,2) -> 0 | BS51: D | BT51: 0 | BV51: IMPORT | BW51: {3de598dc-f39a-4f37-95f7-0f262ebf580b} | BX51: {00000000-0000-0000-0000-000000000000}
A52: / | D52: Z1810 | J52: Mateřská škola Chodovice | AG52: ='Z1810 - Mateřská škola Ch...'!J25 -> 0 | AN52: =SUM(AG52,AT52) -> 0 | AQ52: STA | AS52: 0 | AT52: =ROUND(SUM(AV52:AW52),2) -> 0 | AU52: ='Z1810 - Mateřská škola Ch...'!P74 -> 0 | AV52: ='Z1810 - Mateřská škola Ch...'!J28 -> 0 | AW52: ='Z1810 - Mateřská škola Ch...'!J29 -> 0 | AX52: ='Z1810 - Mateřská škola Ch...'!J30 -> 0 | AY52: ='Z1810 - Mateřská škola Ch...'!J31 -> 0 | AZ52: ='Z1810 - Mateřská škola Ch...'!F28 -> 0 | BA52: ='Z1810 - Mateřská škola Ch...'!F29 -> 0 | BB52: ='Z1810 - Mateřská škola Ch...'!F30 -> 0 | BC52: ='Z1810 - Mateřská škola Ch...'!F31 -> 0 | BD52: ='Z1810 - Mateřská škola Ch...'!F32 -> 0 | BT52: 1 | BU52: ###NOINSERT### | BV52: IMPORT | BW52: {3de598dc-f39a-4f37-95f7-0f262ebf580b} | BX52: {00000000-0000-0000-0000-000000000000}

Sheet Z1810 - Mateřská škola Ch...
D1: List obsahuje: | F1: 1) Krycí list soupisu | G1: 2) Rekapitulace | J1: 3) Soupis prací | K1: Zpět na list: | L1: Rekapitulace stavby
L2: >> skryté sloupce << | AT2: {3de598dc-f39a-4f37-95f7-0f262ebf580b}
AT3: 2
D4: KRYCÍ LIST SOUPISU | M4: v --- níže se nacházejí doplnkové a pomocné údaje k sestavám --- v | AT4: False
D6: Stavba:
E7: Mateřská škola Chodovice - Rekuperace
D9: KSO: | I9: CC-CZ:
D10: Místo: | F10: Chodovice | I10: Datum: | J10: ='Rekapitulace stavby'!AN8 -> 23. 2. 2018
D12: Zadavatel: | F12: OÚ Holovousy | I12: IČ: | J12: =IF('Rekapitulace stavby'!AN10="","",'Rekapitulace stavby'!AN10)
E13: =IF('Rekapitulace stavby'!E11="","",'Rekapitulace stavby'!E11) | I13: DIČ: | J13: =IF('Rekapitulace stavby'!AN11="","",'Rekapitulace stavby'!AN11)
D15: Uchazeč: | I15: IČ: | J15: =IF('Rekapitulace stavby'!AN13="Vyplň údaj","",IF('Rekapitulace stavby'!AN13="","",'Rekapitulace stavby'!AN13))
E16: =IF('Rekapitulace stavby'!E14="Vyplň údaj","",IF('Rekapitulace stavby'!E14="","",'Rekapitulace stavby'!E14)) | I16: DIČ: | J16: =IF('Rekapitulace stavby'!AN14="Vyplň údaj","",IF('Rekapitulace stavby'!AN14="","",'Rekapitulace stavby'!AN14))
D18: Projektant: | I18: IČ: | J18: =IF('Rekapitulace stavby'!AN16="","",'Rekapitulace stavby'!AN16)
E19: =IF('Rekapitulace stavby'!E17="","",'Rekapitulace stavby'!E17) | I19: DIČ: | J19: =IF('Rekapitulace stavby'!AN17="","",'Rekapitulace stavby'!AN17)
D21: Poznámka:
D25: Cena bez DPH | J25: =ROUND(J74,2) -> 0
F27: Základ daně | I27: Sazba daně | J27: Výše daně
D28: DPH | E28: základní | F28: =ROUND(SUM(BE74:BE103), 2) -> 0 | I28: 0.21 | J28: =ROUND(ROUND((SUM(BE74:BE103)), 2)*I28, 2) -> 0
E29: snížená | F29: =ROUND(SUM(BF74:BF103), 2) -> 0 | I29: 0.15 | J29: =ROUND(ROUND((SUM(BF74:BF103)), 2)*I29, 2) -> 0
E30: zákl. přenesená | F30: =ROUND(SUM(BG74:BG103), 2) -> 0 | I30: 0.21 | J30: 0
E31: sníž. přenesená | F31: =ROUND(SUM(BH74:BH103), 2) -> 0 | I31: 0.15 | J31: 0
E32: nulová | F32: =ROUND(SUM(BI74:BI103), 2) -> 0 | I32: 0 | J32: 0
D34: Cena s DPH | G34: v | H34: CZK | J34: =SUM(J25:J32) -> 0
C40: REKAPITULACE ČLENĚNÍ SOUPISU PRACÍ
C42: Stavba:
E43: =E7 -> Mateřská škola Chodovice - Rekuperace
C45: Místo: | F45: =F10 -> Chodovice | I45: Datum: | J45: =IF(J10="","",J10) -> 23. 2. 2018
C47: Zadavatel: | F47: OÚ Holovousy | I47: Projektant: | J47: =E19
C48: Uchazeč: | F48: =IF(E16="","",E16)
C50: Kód dílu - Popis | J50: Cena celkem [CZK]
C52: Náklady soupisu celkem | J52: =J74 -> 0 | AU52: -1
D53: PSV - Práce a dodávky PSV | J53: =J75 -> 0
D54: 751 - Vzduchotechnika | J54: =J76 -> 0
D55: ostatní - ostatní | J55: =J92 -> 0
D56: HZS - Hodinové zúčtovací sazby | J56: =J102 -> 0
C63: SOUPIS PRACÍ
C65: Stavba:
E66: =E7 -> Mateřská škola Chodovice - Rekuperace
C68: Místo: | F68: =F10 -> Chodovice | I68: Datum: | J68: =IF(J10="","",J10) -> 23. 2. 2018
C70: Zadavatel: | F70: OÚ Holovousy | I70: Projektant: | J70: =E19
C71: Uchazeč: | F71: =IF(E16="","",E16)
C73: PČ | D73: Typ | E73: Kód | F73: Popis | G73: MJ | H73: Množství | I73: J.cena [CZK] | J73: Cena celkem [CZK] | K73: Cenová soustava | M73: Poznámka | N73: DPH | O73: J. Nh [h] | P73: Nh celkem [h] | Q73: J. hmotnost_x000D_ [t] | R73: Hmotnost_x000D_ celkem [t] | S73: J. suť [t] | T73: Suť Celkem [t]
C74: Náklady soupisu celkem | J74: =BK74 -> 0 | P74: =P75+P102 -> 0 | R74: =R75+R102 -> 0.36265 | T74: =T75+T102 -> 0 | AT74: D | AU74: -1 | BK74: =BK75+BK102 -> 0
D75: D | E75: PSV | F75: Práce a dodávky PSV | J75: =BK75 -> 0 | P75: =P76 -> 0 | R75: =R76 -> 0.36265 | T75: =T76 -> 0 | AR75: 2 | AT75: D | AU75: 0 | AY75: ROZPOCET | BK75: =BK76 -> 0
D76: D | E76: 751 | F76: Vzduchotechnika | J76: =BK76 -> 0 | P76: =P77+SUM(P78:P92) -> 0 | R76: =R77+SUM(R78:R92) -> 0.36265 | T76: =T77+SUM(T78:T92) -> 0 | AR76: 2 | AT76: D | AU76: 1 | AY76: ROZPOCET | BK76: =BK77+SUM(BK78:BK92) -> 0
C77: 1 | D77: K | E77: 751611115 | F77: Montáž vzduchotechnické jednotky s rekuperací tepla stojaté s výměnou vzduchu do 1 000 m3/h | G77: kus | H77: 2 | J77: =ROUND(I77*H77,2) -> 0 | K77: CS ÚRS 2018 01 | N77: základní | P77: =O77*H77 -> 0 | Q77: 0 | R77: =Q77*H77 -> 0 | S77: 0 | T77: =S77*H77 -> 0 | AR77: 16 | AT77: K | AU77: 2 | AY77: ROZPOCET | BE77: =IF(N77="základní",J77,0) -> 0 | BF77: =IF(N77="snížená",J77,0) -> 0 | BG77: =IF(N77="zákl. přenesená",J77,0) -> 0 | BH77: =IF(N77="sníž. přenesená",J77,0) -> 0 | BI77: =IF(N77="nulová",J77,0) -> 0 | BJ77: 1 | BK77: =ROUND(I77*H77,2) -> 0 | BL77: 16 | BM77: 2027936875
D78: PSC | F78: Poznámka k souboru cen:_x000D_ 1. V cenách nejsou započteny náklady na připojení na rozvody a na regulaci. 2. Vzduchotechnické jednotky s výměnou vzduchu nad uvedený rozsah se oceňují individuálně. | AT78: PSC | AU78: 2
C79: 2 | D79: M | E79: 429143710 | F79: např. DUPLEX 850 Inter_x000D_ včetně RD5 + čidla CO2 + požárního čidla + fasádní mřížka + integrovaný ohřívač PTC 0,99kW | G79: kus | H79: 2 | J79: =ROUND(I79*H79,2) -> 0 | K79: CS ÚRS 2016 01 | N79: základní | P79: =O79*H79 -> 0 | Q79: 0.0275 | R79: =Q79*H79 -> 0.055 | S79: 0 | T79: =S79*H79 -> 0 | AR79: 32 | AT79: M | AU79: 2 | AY79: ROZPOCET | BE79: =IF(N79="základní",J79,0) -> 0 | BF79: =IF(N79="snížená",J79,0) -> 0 | BG79: =IF(N79="zákl. přenesená",J79,0) -> 0 | BH79: =IF(N79="sníž. přenesená",J79,0) -> 0 | BI79: =IF(N79="nulová",J79,0) -> 0 | BJ79: 1 | BK79: =ROUND(I79*H79,2) -> 0 | BL79: 16 | BM79: 817632194
D80: P | F80: Poznámka k položce: např. DUPLEX 850 Inter včetně RD5 + čidla CO2 + požárního čidla + fasádní mřížka + integrovaný ohřívač PTC 0,99kW | AT80: P | AU80: 2
C81: 3 | D81: M | E81: 429143711 | F81: Fasádní mřížka (horizontální nebo vertikální včetně průchodek fasádou) | G81: kus | H81: 2 | J81: =ROUND(I81*H81,2) -> 0 | N81: základní | P81: =O81*H81 -> 0 | Q81: 0.0275 | R81: =Q81*H81 -> 0.055 | S81: 0 | T81: =S81*H81 -> 0 | AR81: 32 | AT81: M | AU81: 2 | AY81: ROZPOCET | BE81: =IF(N81="základní",J81,0) -> 0 | BF81: =IF(N81="snížená",J81,0) -> 0 | BG81: =IF(N81="zákl. přenesená",J81,0) -> 0 | BH81: =IF(N81="sníž. přenesená",J81,0) -> 0 | BI81: =IF(N81="nulová",J81,0) -> 0 | BJ81: 1 | BK81: =ROUND(I81*H81,2) -> 0 | BL81: 16 | BM81: 1474480433
D82: P | F82: Poznámka k položce: Fasádní mřížka (horizontální nebo vertikální včetně průchodek fasádou) | AT82: P | AU82: 2
C83: 4 | D83: M | E83: 429143712 | F83: Integrovaný ohřívač PTC, 0,99kW | G83: kus | H83: 2 | J83: =ROUND(I83*H83,2) -> 0 | N83: základní | P83: =O83*H83 -> 0 | Q83: 0.0275 | R83: =Q83*H83 -> 0.055 | S83: 0 | T83: =S83*H83 -> 0 | AR83: 32 | AT83: M | AU83: 2 | AY83: ROZPOCET | BE83: =IF(N83="základní",J83,0) -> 0 | BF83: =IF(N83="snížená",J83,0) -> 0 | BG83: =IF(N83="zákl. přenesená",J83,0) -> 0 | BH83: =IF(N83="sníž. přenesená",J83,0) -> 0 | BI83: =IF(N83="nulová",J83,0) -> 0 | BJ83: 1 | BK83: =ROUND(I83*H83,2) -> 0 | BL83: 16 | BM83: 368732881
D84: P | F84: Poznámka k položce: Integrovaný ohřívač PTC, 0,99kW | AT84: P | AU84: 2
C85: 5 | D85: M | E85: 429143713 | F85: Obklad jednotky, lamino tl. 18 mm - buk - na výběr také dub přírodní, dub bardolino | G85: kus | H85: 2 | J85: =ROUND(I85*H85,2) -> 0 | N85: základní | P85: =O85*H85 -> 0 | Q85: 0.0275 | R85: =Q85*H85 -> 0.055 | S85: 0 | T85: =S85*H85 -> 0 | AR85: 32 | AT85: M | AU85: 2 | AY85: ROZPOCET | BE85: =IF(N85="základní",J85,0) -> 0 | BF85: =IF(N85="snížená",J85,0) -> 0 | BG85: =IF(N85="zákl. přenesená",J85,0) -> 0 | BH85: =IF(N85="sníž. přenesená",J85,0) -> 0 | BI85: =IF(N85="nulová",J85,0) -> 0 | BJ85: 1 | BK85: =ROUND(I85*H85,2) -> 0 | BL85: 16 | BM85: 1122204374
D86: P | F86: Poznámka k položce: Obklad jednotky, lamino tl. 18 mm - buk - na výběr také dub přírodní, dub bardolino | AT86: P | AU86: 2
C87: 6 | D87: M | E87: 429143714 | F87: Zákryt potrubního připojení (pozink, pro lamino obklad) | G87: kus | H87: 2 | J87: =ROUND(I87*H87,2) -> 0 | N87: základní | P87: =O87*H87 -> 0 | Q87: 0.0275 | R87: =Q87*H87 -> 0.055 | S87: 0 | T87: =S87*H87 -> 0 | AR87: 32 | AT87: M | AU87: 2 | AY87: ROZPOCET | BE87: =IF(N87="základní",J87,0) -> 0 | BF87: =IF(N87="snížená",J87,0) -> 0 | BG87: =IF(N87="zákl. přenesená",J87,0) -> 0 | BH87: =IF(N87="sníž. přenesená",J87,0) -> 0 | BI87: =IF(N87="nulová",J87,0) -> 0 | BJ87: 1 | BK87: =ROUND(I87*H87,2) -> 0 | BL87: 16 | BM87: 126060827
D88: P | F88: Poznámka k položce: Zákryt potrubního připojení (pozink, pro lamino obklad) | AT88: P | AU88: 2
C89: 7 | D89: M | E89: 429143715 | F89: Obklad lamino tl. 18 mm - zákryt - buk na výběr také dub přírodní, dub bardolino | G89: kus | H89: 2 | J89: =ROUND(I89*H89,2) -> 0 | N89: základní | P89: =O89*H89 -> 0 | Q89: 0.0275 | R89: =Q89*H89 -> 0.055 | S89: 0 | T89: =S89*H89 -> 0 | AR89: 32 | AT89: M | AU89: 2 | AY89: ROZPOCET | BE89: =IF(N89="základní",J89,0) -> 0 | BF89: =IF(N89="snížená",J89,0) -> 0 | BG89: =IF(N89="zákl. přenesená",J89,0) -> 0 | BH89: =IF(N89="sníž. přenesená",J89,0) -> 0 | BI89: =IF(N89="nulová",J89,0) -> 0 | BJ89: 1 | BK89: =ROUND(I89*H89,2) -> 0 | BL89: 16 | BM89: 636041211
D90: P | F90: Poznámka k položce: Obklad lamino tl. 18 mm - zákryt - buk na výběr také dub přírodní, dub bardolino | AT90: P | AU90: 2
C91: 8 | D91: K | E91: 751510043 | F91: Vzduchotechnické potrubí z pozinkovaného plechu kruhové, trouba spirálně vinutá bez příruby, průměru přes 200 do 300 mm | G91: m | H91: 5 | J91: =ROUND(I91*H91,2) -> 0 | K91: CS ÚRS 2016 01 | N91: základní | P91: =O91*H91 -> 0 | Q91: 0.00653 | R91: =Q91*H91 -> 0.03265 | S91: 0 | T91: =S91*H91 -> 0 | AR91: 16 | AT91: K | AU91: 2 | AY91: ROZPOCET | BE91: =IF(N91="základní",J91,0) -> 0 | BF91: =IF(N91="snížená",J91,0) -> 0 | BG91: =IF(N91="zákl. přenesená",J91,0) -> 0 | BH91: =IF(N91="sníž. přenesená",J91,0) -> 0 | BI91: =IF(N91="nulová",J91,0) -> 0 | BJ91: 1 | BK91: =ROUND(I91*H91,2) -> 0 | BL91: 16 | BM91: 1179760225
D92: D | E92: ostatní | F92: ostatní | J92: =BK92 -> 0 | P92: =SUM(P93:P101) -> 0 | R92: =SUM(R93:R101) -> 0 | T92: =SUM(T93:T101) -> 0 | AR92: 1 | AT92: D | AU92: 2 | AY92: ROZPOCET | BK92: =SUM(BK93:BK101) -> 0
C93: 9 | D93: K | E93: 123 | F93: těsnící materiál | G93: kg | H93: 5 | J93: =ROUND(I93*H93,2) -> 0 | N93: základní | P93: =O93*H93 -> 0 | Q93: 0 | R93: =Q93*H93 -> 0 | S93: 0 | T93: =S93*H93 -> 0 | AR93: 4 | AT93: K | AU93: 3 | AY93: ROZPOCET | BE93: =IF(N93="základní",J93,0) -> 0 | BF93: =IF(N93="snížená",J93,0) -> 0 | BG93: =IF(N93="zákl. přenesená",J93,0) -> 0 | BH93: =IF(N93="sníž. přenesená",J93,0) -> 0 | BI93: =IF(N93="nulová",J93,0) -> 0 | BJ93: 1 | BK93: =ROUND(I93*H93,2) -> 0 | BL93: 4 | BM93: 301226113
C94: 10 | D94: K | E94: 124 | F94: spojovací materiál | G94: kg | H94: 5 | J94: =ROUND(I94*H94,2) -> 0 | N94: základní | P94: =O94*H94 -> 0 | Q94: 0 | R94: =Q94*H94 -> 0 | S94: 0 | T94: =S94*H94 -> 0 | AR94: 4 | AT94: K | AU94: 3 | AY94: ROZPOCET | BE94: =IF(N94="základní",J94,0) -> 0 | BF94: =IF(N94="snížená",J94,0) -> 0 | BG94: =IF(N94="zákl. přenesená",J94,0) -> 0 | BH94: =IF(N94="sníž. přenesená",J94,0) -> 0 | BI94: =IF(N94="nulová",J94,0) -> 0 | BJ94: 1 | BK94: =ROUND(I94*H94,2) -> 0 | BL94: 4 | BM94: 1608162369
C95: 11 | D95: K | E95: 125 | F95: kotevní materiál | G95: kg | H95: 5 | J95: =ROUND(I95*H95,2) -> 0 | N95: základní | P95: =O95*H95 -> 0 | Q95: 0 | R95: =Q95*H95 -> 0 | S95: 0 | T95: =S95*H95 -> 0 | AR95: 4 | AT95: K | AU95: 3 | AY95: ROZPOCET | BE95: =IF(N95="základní",J95,0) -> 0 | BF95: =IF(N95="snížená",J95,0) -> 0 | BG95: =IF(N95="zákl. přenesená",J95,0) -> 0 | BH95: =IF(N95="sníž. přenesená",J95,0) -> 0 | BI95: =IF(N95="nulová",J95,0) -> 0 | BJ95: 1 | BK95: =ROUND(I95*H95,2) -> 0 | BL95: 4 | BM95: -1229499103
C96: 12 | D96: K | E96: 126 | F96: montážní materiál | G96: kg | H96: 10 | J96: =ROUND(I96*H96,2) -> 0 | N96: základní | P96: =O96*H96 -> 0 | Q96: 0 | R96: =Q96*H96 -> 0 | S96: 0 | T96: =S96*H96 -> 0 | AR96: 4 | AT96: K | AU96: 3 | AY96: ROZPOCET | BE96: =IF(N96="základní",J96,0) -> 0 | BF96: =IF(N96="snížená",J96,0) -> 0 | BG96: =IF(N96="zákl. přenesená",J96,0) -> 0 | BH96: =IF(N96="sníž. přenesená",J96,0) -> 0 | BI96: =IF(N96="nulová",J96,0) -> 0 | BJ96: 1 | BK96: =ROUND(I96*H96,2) -> 0 | BL96: 4 | BM96: -854295988
C97: 13 | D97: K | E97: 129 | F97: dílenská dokumentace, inženýrská činnost | G97: kpt | H97: 1 | J97: =ROUND(I97*H97,2) -> 0 | N97: základní | P97: =O97*H97 -> 0 | Q97: 0 | R97: =Q97*H97 -> 0 | S97: 0 | T97: =S97*H97 -> 0 | AR97: 4 | AT97: K | AU97: 3 | AY97: ROZPOCET | BE97: =IF(N97="základní",J97,0) -> 0 | BF97: =IF(N97="snížená",J97,0) -> 0 | BG97: =IF(N97="zákl. přenesená",J97,0) -> 0 | BH97: =IF(N97="sníž. přenesená",J97,0) -> 0 | BI97: =IF(N97="nulová",J97,0) -> 0 | BJ97: 1 | BK97: =ROUND(I97*H97,2) -> 0 | BL97: 4 | BM97: -759201569
C98: 14 | D98: K | E98: 130 | F98: doprava a přesun hmot - dle dodavatele | G98: kpt | H98: 1 | J98: =ROUND(I98*H98,2) -> 0 | N98: základní | P98: =O98*H98 -> 0 | Q98: 0 | R98: =Q98*H98 -> 0 | S98: 0 | T98: =S98*H98 -> 0 | AR98: 4 | AT98: K | AU98: 3 | AY98: ROZPOCET | BE98: =IF(N98="základní",J98,0) -> 0 | BF98: =IF(N98="snížená",J98,0) -> 0 | BG98: =IF(N98="zákl. přenesená",J98,0) -> 0 | BH98: =IF(N98="sníž. přenesená",J98,0) -> 0 | BI98: =IF(N98="nulová",J98,0) -> 0 | BJ98: 1 | BK98: =ROUND(I98*H98,2) -> 0 | BL98: 4 | BM98: 680053588
C99: 15 | D99: K | E99: 132 | F99: odzkoušení a zaregulování systému | G99: kpt | H99: 1 | J99: =ROUND(I99*H99,2) -> 0 | N99: základní | P99: =O99*H99 -> 0 | Q99: 0 | R99: =Q99*H99 -> 0 | S99: 0 | T99: =S99*H99 -> 0 | AR99: 4 | AT99: K | AU99: 3 | AY99: ROZPOCET | BE99: =IF(N99="základní",J99,0) -> 0 | BF99: =IF(N99="snížená",J99,0) -> 0 | BG99: =IF(N99="zákl. přenesená",J99,0) -> 0 | BH99: =IF(N99="sníž. přenesená",J99,0) -> 0 | BI99: =IF(N99="nulová",J99,0) -> 0 | BJ99: 1 | BK99: =ROUND(I99*H99,2) -> 0 | BL99: 4 | BM99: -2019306724
C100: 16 | D100: K | E100: 133 | F100: zaškolení obsluhy a předávací dokumentace | G100: kpt | H100: 1 | J100: =ROUND(I100*H100,2) -> 0 | N100: základní | P100: =O100*H100 -> 0 | Q100: 0 | R100: =Q100*H100 -> 0 | S100: 0 | T100: =S100*H100 -> 0 | AR100: 4 | AT100: K | AU100: 3 | AY100: ROZPOCET | BE100: =IF(N100="základní",J100,0) -> 0 | BF100: =IF(N100="snížená",J100,0) -> 0 | BG100: =IF(N100="zákl. přenesená",J100,0) -> 0 | BH100: =IF(N100="sníž. přenesená",J100,0) -> 0 | BI100: =IF(N100="nulová",J100,0) -> 0 | BJ100: 1 | BK100: =ROUND(I100*H100,2) -> 0 | BL100: 4 | BM100: -1838091823
C101: 17 | D101: K | E101: 135 | F101: Provedení průzatů, začistění, jádrové vrtání | G101: kus | H101: 4 | J101: =ROUND(I101*H101,2) -> 0 | N101: základní | P101: =O101*H101 -> 0 | Q101: 0 | R101: =Q101*H101 -> 0 | S101: 0 | T101: =S101*H101 -> 0 | AR101: 4 | AT101: K | AU101: 3 | AY101: ROZPOCET | BE101: =IF(N101="základní",J101,0) -> 0 | BF101: =IF(N101="snížená",J101,0) -> 0 | BG101: =IF(N101="zákl. přenesená",J101,0) -> 0 | BH101: =IF(N101="sníž. přenesená",J101,0) -> 0 | BI101: =IF(N101="nulová",J101,0) -> 0 | BJ101: 1 | BK101: =ROUND(I101*H101,2) -> 0 | BL101: 4 | BM101: -1344047983
D102: D | E102: HZS | F102: Hodinové zúčtovací sazby | J102: =BK102 -> 0 | P102: =P103 -> 0 | R102: =R103 -> 0 | T102: =T103 -> 0 | AR102: 4 | AT102: D | AU102: 0 | AY102: ROZPOCET | BK102: =BK103 -> 0
C103: 18 | D103: K | E103: HZS3212 | F103: Hodinové zúčtovací sazby montáží technologických zařízení na stavebních objektech montér vzduchotechniky odborný | G103: hod | H103: 10 | J103: =ROUND(I103*H103,2) -> 0 | K103: CS ÚRS 2016 01 | N103: základní | P103: =O103*H103 -> 0 | Q103: 0 | R103: =Q103*H103 -> 0 | S103: 0 | T103: =S103*H103 -> 0 | AR103: 512 | AT103: K | AU103: 1 | AY103: ROZPOCET | BE103: =IF(N103="základní",J103,0) -> 0 | BF103: =IF(N103="snížená",J103,0) -> 0 | BG103: =IF(N103="zákl. přenesená",J103,0) -> 0 | BH103: =IF(N103="sníž. přenesená",J103,0) -> 0 | BI103: =IF(N103="nulová",J103,0) -> 0 | BJ103: 1 | BK103: =ROUND(I103*H103,2) -> 0 | BL103: 512 | BM103: -1394596445

Sheet Pokyny pro vyplnění
C3: Struktura údajů, formát souboru a metodika pro zpracování
C4: Struktura
C6: Soubor je složen ze záložky Rekapitulace stavby a záložek s názvem soupisu prací pro jednotlivé objekty ve formátu XLSX. Každá ze záložek přitom obsahuje
C7: ještě samostatné sestavy vymezené orámovaním a nadpisem sestavy.
C9: Rekapitulace stavby obsahuje sestavu Rekapitulace stavby a Rekapitulace objektů stavby a soupisů prací.
D10: V sestavě Rekapitulace stavby jsou uvedeny informace identifikující předmět veřejné zakázky na stavební práce, KSO, CC-CZ, CZ-CPV, CZ-CPA a rekapitulaci
D11: celkové nabídkové ceny uchazeče.
D13: V sestavě Rekapitulace objektů stavby a soupisů prací je uvedena rekapitulace stavebních objektů, inženýrských objektů, provozních souborů,
D14: vedlejších a ostatních nákladů a ostatních nákladů s rekapitulací nabídkové ceny za jednotlivé soupisy prací. Na základě údaje Typ je možné
D15: identifikovat, zda se jedná o objekt nebo soupis prací pro daný objekt:
E16: STA | F16: Stavební objekt pozemní
E17: ING | F17: Stavební objekt inženýrský
E18: PRO | F18: Provozní soubor
E19: VON | F19: Vedlejší a ostatní náklady
E20: OST | F20: Ostatní
E21: Soupis | F21: Soupis prací pro daný typ objektu
C23: Soupis prací pro jednotlivé objekty obsahuje sestavy Krycí list soupisu, Rekapitulace členění soupisu prací, Soupis prací. Za soupis prací může být považován
C24: i objekt stavby v případě, že neobsahuje podřízenou zakázku.
D25: Krycí list soupisu obsahuje rekapitulaci informací o předmětu veřejné zakázky ze sestavy Rekapitulace stavby, informaci o zařazení objektu do KSO,
D26: CC-CZ, CZ-CPV, CZ-CPA a rekapitulaci celkové nabídkové ceny uchazeče za aktuální soupis prací.
D28: Rekapitulace členění soupisu prací obsahuje rekapitulaci soupisu prací ve všech úrovních členění soupisu tak, jak byla tato členění použita (např.
D29: stavební díly, funkční díly, případně jiné členění) s rekapitulací nabídkové ceny.
D31: Soupis prací obsahuje položky veškerých stavebních nebo montážních prací, dodávek materiálů a služeb nezbytných pro zhotovení stavebního objektu,
D32: inženýrského objektu, provozního souboru, vedlejších a ostatních nákladů.
D33: Pro položky soupisu prací se zobrazují následující informace:
E34: PČ | G34: Pořadové číslo položky v aktuálním soupisu
E35: TYP | G35: Typ položky: K - konstrukce, M - materiál, PP - plný popis, PSC - poznámka k souboru cen, P - poznámka k položce, VV - výkaz výměr
E36: Kód | G36: Kód položky
E37: Popis | G37: Zkrácený popis položky
E38: MJ | G38: Měrná jednotka položky
E39: Množství | G39: Množství v měrné jednotce
E40: J.cena | G40: Jednotková cena položky. Zadaní může obsahovat namísto J.ceny sloupce J.materiál a J.montáž, jejichž součet definuje
G41: J.cenu položky.
E42: Cena celkem | G42: Celková cena položky daná jako součin množství a j.ceny
E43: Cenová soustava | G43: Příslušnost položky do cenové soustavy
D45: Ke každé položce soupisu prací se na samostatných řádcích může zobrazovat:
E46: Plný popis položky
E47: Poznámka k souboru cen a poznámka zadavatele
E48: Výkaz výměr
D49: Pokud je k řádku výkazu výměr evidovaný údaj ve sloupci Kód, jedná se o definovaný odkaz, na který se může odvolávat výkaz výměr z jiné položky.
C50: Metodika pro zpracování
C52: Jednotlivé sestavy jsou v souboru provázány. Editovatelné pole jsou zvýrazněny žlutým podbarvením, ostatní pole neslouží k editaci a nesmí být jakkoliv
C53: modifikovány.
C55: Uchazeč je pro podání nabídky povinen vyplnit žlutě podbarvená pole:
D56: Pole Uchazeč v sestavě Rekapitulace stavby - zde uchazeč vyplní svůj název (název subjektu)
D57: Pole IČ a DIČ v sestavě Rekapitulace stavby - zde uchazeč vyplní svoje IČ a DIČ
D58: Datum v sestavě Rekapitulace stavby - zde uchazeč vyplní datum vytvoření nabídky
D59: J.cena = jednotková cena v sestavě Soupis prací o maximálním počtu desetinných míst uvedených v poli
D60: - pokud sestavy soupisů prací obsahují pole J.cena, musí být všechna tato pole vyplněna nenulovými kladnými číslicemi
D61: Poznámka - nepovinný údaj pro položku soupisu
D63: V případě, že sestavy soupisů prací neobsahují pole J.cena, potom ve všech soupisech prací obsahují pole:
D64: - J.materiál - jednotková cena materiálu
D65: - J.montáž - jednotková cena montáže
D66: Uchazeč je v tomto případě povinen vyplnit všechna pole J.materiál a pole J.montáž nenulovými kladnými číslicemi. V případech, kdy položka
D67: neobsahuje žádný materiál je přípustné, aby pole J.materiál bylo vyplněno nulou. V případech, kdy položka neobsahuje žádnou montáž je přípustné,
D68: aby pole J.montáž bylo vyplněno nulou. Není však přípustné, aby obě pole - J.materiál, J.Montáž byly u jedné položky vyplněny nulou.
C73: Rekapitulace stavby
C74: Název | F74: Povinný | H74: Popis | I74: Typ | J74: Max. počet
C75: atributu | F75: (A/N) | J75: znaků
C77: Kód | F77: A | H77: Kód stavby | I77: String | J77: 20
C78: Stavba | F78: A | H78: Název stavby | I78: String | J78: 120
C79: Místo | F79: N | H79: Místo stavby | I79: String | J79: 50
C80: Datum | F80: A | H80: Datum vykonaného exportu | I80: Date
C81: KSO | F81: N | H81: Klasifikace stavebního objektu | I81: String | J81: 15
C82: CC-CZ | F82: N | H82: Klasifikace stavbeních děl | I82: String | J82: 15
C83: CZ-CPV | F83: N | H83: Společný slovník pro veřejné zakázky | I83: String | J83: 20
C84: CZ-CPA | F84: N | H84: Klasifikace produkce podle činností | I84: String | J84: 20
C85: Zadavatel | F85: N | H85: Zadavatel zadaní | I85: String | J85: 50
C86: IČ | F86: N | H86: IČ zadavatele zadaní | I86: String | J86: 20
C87: DIČ | F87: N | H87: DIČ zadavatele zadaní | I87: String | J87: 20
C88: Uchazeč | F88: N | H88: Uchazeč veřejné zakázky | I88: String | J88: 50
C89: Projektant | F89: N | H89: Projektant | I89: String | J89: 50
C90: Poznámka | F90: N | H90: Poznámka k zadání | I90: String | J90: 255
C91: Sazba DPH | F91: A | H91: Rekapitulace sazeb DPH u položek soupisů | I91: eGSazbaDph
C92: Základna DPH | F92: A | H92: Základna DPH určena součtem celkové ceny z položek soupisů | I92: Double
C93: Hodnota DPH | F93: A | H93: Hodnota DPH | I93: Double
C94: Cena bez DPH | F94: A | H94: Celková cena bez DPH za celou stavbu. Sčítává se ze všech listů. | I94: Double
C95: Cena s DPH | F95: A | H95: Celková cena s DPH za celou stavbu | I95: Double
C100: Rekapitulace objektů stavby a soupisů prací
C101: Název | F101: Povinný | H101: Popis | I101: Typ | J101: Max. počet
C102: atributu | F102: (A/N) | J102: znaků
C104: Kód | F104: A | H104: Přebírá se z Rekapitulace stavby | I104: String | J104: 20
C105: Stavba | F105: A | H105: Přebírá se z Rekapitulace stavby | I105: String | J105: 120
C106: Místo | F106: N | H106: Přebírá se z Rekapitulace stavby | I106: String | J106: 50
C107: Datum | F107: A | H107: Přebírá se z Rekapitulace stavby | I107: Date
C108: Zadavatel | F108: N | H108: Přebírá se z Rekapitulace stavby | I108: String | J108: 50
C109: Projektant | F109: N | H109: Přebírá se z Rekapitulace stavby | I109: String | J109: 50
C110: Uchazeč | F110: N | H110: Přebírá se z Rekapitulace stavby | I110: String | J110: 50
C111: Kód | F111: A | H111: Kód objektu | I111: String | J111: 20
C112: Objektu, Soupis prací | F112: A | H112: Název objektu | I112: String | J112: 120
C113: Cena bez DPH | F113: A | H113: Cena bez DPH za daný objekt | I113: Double
C114: Cena s DPH | F114: A | H114: Cena spolu s DPH za daný objekt | I114: Double
C115: Typ | F115: A | H115: Typ zakázky | I115: eGTypZakazky
C120: Krycí list soupisu
C121: Název | F121: Povinný | H121: Popis | I121: Typ | J121: Max. počet
C122: atributu | F122: (A/N) | J122: znaků
C124: Stavba | F124: A | H124: Přebírá se z Rekapitulace stavby | I124: String | J124: 120
C125: Objekt | F125: A | H125: Kód a název objektu | I125: String | J125: 20 + 120
C126: Soupis | F126: A | H126: Kód a název soupisu | I126: String | J126: 20 + 120
C127: KSO | F127: N | H127: Klasifikace stavebního objektu | I127: String | J127: 15
...
