Workbook

Sheet Parametry
A1: Název | B1: Hodnota
A2: Nadpis rekapitulace | B2: Seznam prací a dodávek elektrotechnických zařízení
A3: Akce | B3: STAVEBNÍ ÚPRAVY ZŠ A MŠ, PŘÍSTAVBA ZŠ a MŠ Chodovice, Chodovice 2, 508 01 Hořice
A4: Projekt | B4: náklady
A5: Investor | B5: Obecní úřad Holovousy, Holovousy 39, 508 01 Hořice
A6: Z. č. | B6: 18_03
A7: A. č.
A8: Smlouva
A9: Vypracoval | B9: Ing. Iva Kábrtová
A10: Kontroloval
A11: Datum
A12: Zpracovatel
A13: CÚ
A14: Poznámka | B14: Uvedené ceny jsou v Kč a nezahrnují DPH, pokud to není uvedeno.
A16: Doprava dodávek (3,6) % | B16: 3,60
A17: Přesun dodávek (1) % | B17: 1,00
A18: PPV (1 nebo 6) % | B18: 6,00
A19: PPV zemních prací, nátěrů (1) % | B19: 0,00
A20: Dodavat. dokumentace (1 - 1,5) % | B20: 0,00
A21: Rizika a pojištění (1 - 1,5) % | B21: 0,00
A22: Opravy v záruce (5 - 7) % | B22: 0,00
A23: GZS (3,25 nebo 8,4) % | B23: 0,00
A24: Provozní vlivy % | B24: 0,00
A25: Kompletační činnost - a | B25: 0,00
A26: Kompletační činnost - b | B26: 0,952842
... A32: 2. sazba DPH % | B32: 15
A34: Procento PM % | B34: 5

Sheet Rekapitulace
A1: Název | B1: Hodnota A | C1: Hodnota B
A2: Základní náklady
A3: Dodávka | B3: =(Rozpočet!G12) -> 0
A4: Doprava 3,60%, Přesun 1,00% | B4: =B3 * Parametry!B16 / 100 -> 0 | C4: =B3 * Parametry!B17 / 100 -> 0
A5: Montáž - materiál | C5: =(Rozpočet!G43) + 0 -> 0
A6: Montáž - práce | C6: =(Rozpočet!I12) + (Rozpočet!I43) + 0 -> 0
A7: Mezisoučet 1 | B7: =B3 + B4 -> 0 | C7: =C3 + C4 + C5 + C6 -> 0
A8: PPV 6,00% z montáže: materiál + práce | C8: =(C5 + C6) * Parametry!B18 / 100 -> 0
A9: Nátěry | C9: =0 + 0 -> 0
A10: Zemní práce | C10: =0 + 0 -> 0
A11: PPV 0,00% z nátěrů a zemních prací | C11: =(C9 + C10) * Parametry!B19 / 100 -> 0
A12: Mezisoučet 2 | B12: =B7 -> 0 | C12: =C7 + C8 + C9 + C10 + C11 -> 0
A13: Dodav. dokumentace 0,00% z mezisoučtu 2 | C13: =(B12 + C12) * Parametry!B20 / 100 -> 0
A14: Rizika a pojištění 0,00% z mezisoučtu 2 | C14: =(B12 + C12) * Parametry!B21 / 100 -> 0
A15: Opravy v záruce 0,00% z mezisoučtu 1 | C15: =(B7 + C7) * Parametry!B22 / 100 -> 0
A16: Základní náklady celkem | C16: =B12 + C12 + C13 + C14 + C15 -> 0
A18: Vedlejší náklady
A19: GZS 0,00% z pravé strany mezisoučtu 2 | C19: =C12 * Parametry!B23 / 100 -> 0
A20: Provozní vlivy 0,00% z pravé strany mezisoučtu 2 | C20: =C12 * Parametry!B24 / 100 -> 0
A21: Vedlejší náklady celkem | C21: =C19 + C20 -> 0
A22: Kompletační činnost | C22: =Parametry!B25 * Parametry!B28 * (C16 * Parametry!B27)^Parametry!B26 -> 0
A24: Náklady celkem | C24: =C16 + C21 + C22 -> 0
A25: Základ a hodnota DPH 21% | B25: =(SUM(Rozpočet!G10:G11)+SUM(Rozpočet!G14:G40,Rozpočet!G42)) + (SUM(Rozpočet!I10:I11)+SUM(Rozpočet!I14:I40)) + B4 + C4 + C8 + C11 + C13 + C14 + C15 + C21 + C22 -> 0 | C25: =B25 * Parametry!B31 / 100 -> 0
A26: Základ a hodnota DPH 15% | B26: =(SUM(Rozpočet!G15,Rozpočet!G17,Rozpočet!G20,Rozpočet!G22,Rozpočet!G24,Rozpočet!G31)) + (SUM(Rozpočet!I15,Rozpočet!I17,Rozpočet!I20,Rozpočet!I22,Rozpočet!I24,Rozpočet!I31)) -> 0 | C26: =B26 * Parametry!B32 / 100 -> 0
A27: Náklady celkem s DPH | C27: =C24 + C25 + C26 -> 0
A29: Roční nárůst cen 0,00% | C29: =C24 * Parametry!B29 / 100 -> 0
A30: Roční nárůst cen 0,00% | C30: =C24 * Parametry!B30 / 100 -> 0
A31: Součty odstavců | B31: Materiál | C31: Montáž
A32: Specifikace dodávky R1 | B32: =(Rozpočet!G5) -> 0 | C32: =(Rozpočet!I5) -> 0
A33: Specifikace dodávky R2 | B33: =(Rozpočet!G8) -> 0 | C33: =(Rozpočet!I8) -> 0
A34: Dodávky | B34: =(Rozpočet!G12) -> 0 | C34: =(Rozpočet!I12) -> 0
A35: Elektromontáže | B35: =(Rozpočet!G43) -> 0 | C35: =(Rozpočet!I43) -> 0

Sheet Rozpočet
A1: Věta | B1: Pozice | C1: Název | D1: Mj | E1: Počet | F1: Materiál | G1: Materiál celkem | H1: Montáž | I1: Montáž celkem | J1: Cena | K1: Cena celkem | L1: Poznámka 1 | O1: =Parametry!B34/100*G14+Parametry!B34/100*G16+Parametry!B34/100*G18+Parametry!B34/100*G19+Parametry!B34/100*G21+Parametry!B34/100*G23+Parametry!B34/100*G25+Parametry!B34/100*G26+Parametry!B34/100*G27+Parametry!B34/100*G28+Parametry!B34/100*G29+Parametry!B34/100*G30+Parametry!B34/100*G32+Parametry!B34/100*G33+Parametry!B34/100*#REF!+Parametry!B34/100*#REF!+Parametry!B34/100*#REF!+Parametry!B34/100*G34+Parametry!B34/100*G35+Parametry!B34/100*G36+Parametry!B34/100*G37+Parametry!B34/100*G38+Parametry!B34/100*#REF! -> #REF!
C2: Specifikace dodávky R1
A3: 1073-2122 | B3: 1 | C3: Jistič , char B, 1-pólový, Icn=10kA, In=10A | D3: ks | E3: 1 | F3: 0 | G3: =E3*F3 -> 0 | H3: 120.11 | I3: 0 | J3: 0 | K3: =G3+I3 -> 0
A4: 1073-2475 | B4: 2 | C4: Chránič s nadproud.ochr,Ir=250A,AC,1+N pól,char.B, Idn=0.03A, In=10A | D4: ks | E4: 1 | F4: 1645 | G4: 0 | H4: 215.71 | I4: 0 | J4: =F4+H4 -> 1860.71 | K4: =G4+I4 -> 0
C5: Specifikace dodávky R1 - celkem | G5: =SUM(G3:G4) -> 0 | I5: =SUM(I3:I4) -> 0 | K5: =SUM(K3:K4) -> 0
C6: Specifikace dodávky R2
A7: 1073-2122 | B7: 3 | C7: Jistič , char B, 1-pólový, Icn=10kA, In=10A | D7: ks | E7: 1 | F7: 0 | G7: =E7*F7 -> 0 | H7: 120.11 | I7: 0 | J7: 0 | K7: =G7+I7 -> 0
C8: Specifikace dodávky R2 - celkem | G8: =SUM(G7:G7) -> 0 | I8: =SUM(I7:I7) -> 0 | K8: =SUM(K7:K7) -> 0
C9: Dodávky
B10: 4 | C10: Specifikace dodávky R1 | D10: ks | E10: 1 | F10: =K5 -> 0 | G10: =E10*F10 -> 0 | H10: 0 | I10: =E10*H10 -> 0 | J10: =F10+H10 -> 0 | K10: =G10+I10 -> 0
B11: 5 | C11: Specifikace dodávky R2 | D11: ks | E11: 1 | F11: 0 | G11: =E11*F11 -> 0 | H11: 0 | I11: =E11*H11 -> 0 | J11: =F11+H11 -> 0 | K11: =G11+I11 -> 0
C12: Dodávky - celkem | G12: =SUM(G10:G11) -> 0 | I12: =SUM(I10:I11) -> 0 | K12: =SUM(K10:K11) -> 0
C13: Elektromontáže
A14: 1123-2 | B14: 6 | C14: KRABICE UNIVERZÁLNÍ | D14: ks | E14: 10 | F14: 0 | G14: =E14*F14 -> 0 | H14: 18.13 | I14: 0 | J14: 0 | K14: =G14+I14 -> 0
A15: 1002-5160 | C15: KRYT SPÍNAČE,
A16: 1002-621 | B16: 7 | C16: Kryt spínače kolébkového; b. bílá / ledová bílá | D16: ks | E16: 6 | F16: 0 | G16: =E16*F16 -> 0 | H16: 0 | I16: 0 | J16: 0 | K16: =G16+I16 -> 0
A17: 1002-671 | C17: PŘÍSTROJ SPÍNAČE PŘEPÍNAČE
A18: 1002-4448 | B18: 8 | C18: Přístroj spínače jednopólového (bezšroubové svorky); řazení 1, 1So (do hořlavých podkladů B až F) | D18: ks | E18: 2 | F18: 0 | G18: =E18*F18 -> 0 | H18: 0 | I18: 0 | J18: =F18+H18 -> 0 | K18: =G18+I18 -> 0
A19: 1002-4451 | B19: 9 | C19: Přístroj přepínače střídavého (bezšroubové svorky); řazení 6, 6So (do hořlavých podkladů B až F) | D19: ks | E19: 20 | F19: 0 | G19: =E19*F19 -> 0 | H19: 0 | I19: 0 | J19: 0 | K19: =G19+I19 -> 0
A20: 1002-671 | C20: RÁMEČEK
A21: 1002-768 | B21: 10 | C21: Rámeček pro elektroinstalační přístroje, jednonásobný; b. bílá / ledová bílá | D21: ks | E21: 6 | F21: 0 | G21: =E21*F21 -> 0 | H21: 25 | I21: 0 | J21: 0 | K21: =G21+I21 -> 0
A22: 1031-850 | C22: STROPNÍ SVÍTIDLA VESTAVNÁ SDK
A23: 1031-877 | B23: 11 | C23: Stropní svítidlo, pro kompaktní zářivku, včetně předřadníku 13W | D23: ks | E23: 10 | F23: 2904 | G23: 0 | H23: 160 | I23: 0 | J23: =F23+H23 -> 3064 | K23: =G23+I23 -> 0
A24: 7002-17 | C24: KABEL SILOVÝ,IZOLACE PVC
A25: 7002-22 | B25: 12 | C25: CYKY-J 3x1.5 , pevně | D25: m | E25: 120 | F25: 0 | G25: =E25*F25 -> 0 | H25: 0 | I25: =E25*H25 -> 0 | J25: =F25+H25 -> 0 | K25: =G25+I25 -> 0
A26: 7002-493 | B26: 13 | C26: CYKY-O 2x1.5 , pevně | D26: m | E26: 18 | F26: 0 | G26: =E26*F26 -> 0 | H26: 0 | I26: =E26*H26 -> 0 | J26: =F26+H26 -> 0 | K26: =G26+I26 -> 0
A27: 7002-497 | B27: 14 | C27: CYKY-O 3x1.5 , pevně | D27: m | E27: 45 | F27: 0 | G27: =E27*F27 -> 0 | H27: 0 | I27: =E27*H27 -> 0 | J27: =F27+H27 -> 0 | K27: =G27+I27 -> 0
A28: 1042-12 | B28: 15 | C28: ZSA16 zemnicí svorka na potrubí | D28: ks | E28: 3 | F28: 0 | G28: =E28*F28 -> 0 | H28: 0 | I28: =E28*H28 -> 0 | J28: =F28+H28 -> 0 | K28: =G28+I28 -> 0
A29: 1042-13 | B29: 16 | C29: Cu pás.ZSA16 Pásek uzemňovací Cu, 0.5m | D29: ks | E29: 3 | F29: 0 | G29: =E29*F29 -> 0 | H29: 0 | I29: =E29*H29 -> 0 | J29: =F29+H29 -> 0 | K29: =G29+I29 -> 0
A30: 1042-153 | B30: 17 | C30: ZS4 zemnicí svorka na baterie | D30: ks | E30: 2 | F30: 0 | G30: =E30*F30 -> 0 | H30: 0 | I30: =E30*H30 -> 0 | J30: =F30+H30 -> 0 | K30: =G30+I30 -> 0
A31: 7002-197 | C31: VODIČ JEDNOŽILOVÝ, IZOLACE PVC
A32: 7002-200 | B32: 18 | C32: CYY 4 , pevně | D32: m | E32: 45 | F32: 0 | G32: =E32*F32 -> 0 | H32: 0 | I32: =E32*H32 -> 0 | J32: =F32+H32 -> 0 | K32: =G32+I32 -> 0
A33: 1030-35706 | B33: 19 | C33: Vodič AlMgSi Rd 8 měkký | D33: m | E33: 140 | F33: 0 | G33: =E33*F33 -> 0 | H33: 0 | I33: =E33*H33 -> 0 | J33: =F33+H33 -> 0 | K33: =G33+I33 -> 0
A34: 1030-200119 | B34: 23 | C34: Vývod uzemnění z vyrovnaného drátu Rd 10- 3000 mm, nerez V4A | D34: ks | E34: 16.44 | F34: 1356.6 | G34: 0 | H34: 0 | I34: =E34*H34 -> 0 | J34: =F34+H34 -> 1356.6 | K34: =G34+I34 -> 0
A35: 1030-200422 | B35: 24 | C35: Křížová svorka pro vodiče Ø8/10 a pásky do 40 mm Nerez se středovou destičkou | D35: ks | E35: 3 | F35: 0 | G35: =E35*F35 -> 0 | H35: 0 | I35: =E35*H35 -> 0 | J35: =F35+H35 -> 0 | K35: =G35+I35 -> 0
A36: 1030-200430 | B36: 25 | C36: Svorka Ø8-10 / Ø16 Nerez | D36: ks | E36: 1 | F36: 0 | G36: =E36*F36 -> 0 | H36: 0 | I36: =E36*H36 -> 0 | J36: =F36+H36 -> 0 | K36: =G36+I36 -> 0
A37: 1030-200437 | B37: 26 | C37: Svorka UNI pro Rd 8-10/ Rd 8-10 Nerez | D37: ks | E37: 3 | F37: 0 | G37: =E37*F37 -> 0 | H37: 0 | I37: =E37*H37 -> 0 | J37: =F37+H37 -> 0 | K37: =G37+I37 -> 0
A38: 1030-200443 | B38: 27 | C38: Štítky na označení svodů bez čísla 7-10 / 30 mm | D38: ks | E38: 3 | F38: 0 | G38: =E38*F38 -> 0 | H38: 0 | I38: =E38*H38 -> 0 | J38: =F38+H38 -> 0 | K38: =G38+I38 -> 0
A39: 1030-200835 | B39: 29 | C39: Podpěra vedení s příchytkou do zdiva s vrutem a hmoždinkou 7x140 | D39: ks | E39: 28 | F39: 0 | G39: =E39*F39 -> 0 | H39: 0 | I39: =E39*H39 -> 0 | J39: =F39+H39 -> 0 | K39: =G39+I39 -> 0
A40: 1030-200998 | B40: 30 | C40: MV nerez Ø8-10/Ø16, šroub s šestihranou hlavou | D40: ks | E40: 1 | F40: 0 | G40: =E40*F40 -> 0 | H40: 0 | I40: =E40*H40 -> 0 | J40: =F40+H40 -> 0 | K40: =G40+I40 -> 0
J41: =F41+H41 -> 0 | K41: =G41+I41 -> 0
B42: 31 | C42: Podružný materiál | G42: =SUM(G32:G41) -> 0 | J42: =F42+H42 -> 0 | K42: =SUM(K32:K41) -> 0
C43: Elektromontáže - celkem | G43: =SUM(G14:G42) -> 0 | I43: =SUM(I14:I42) -> 0 | K43: =SUM(K14:K42) -> 0
J44: =F44+H44 -> 0 | K44: =G44+I44 -> 0
